{"text_format":"1","workbook":"xlsx","n_sheets":13,"sheets":["Title","Introduction","1. Personnel","2. Activities","3. % of Families","4. Scenario Summary","5. Results – Vaccinated & Staff","6. Results – Time & Auxiliary","7. Results – Adding & Removing","Technical Appendix","Clinic Flow","Results INDEX-MATCH","Maxi-Vac_Datasheet"],"not_rendered":{"charts":0,"images":2,"macros":1,"external_links":0,"defined_names":0,"comments":0,"pivot_tables":0},"unopened":[],"bounds":{"document_bytes":16777216,"sheet_cells":100000,"rows_first":2000,"rows_last":500,"rows_between":2000,"halvings":0,"cell_chars":16384,"cell_head_chars":4096},"cells_cut":0,"cells_raw":0,"read":"whole","date_system":"1900"}

{"sheet":"Title","index":0,"n_rows":16,"n_cols":8,"rows_kept":16,"cut":false,"hidden":false,"merged":[[23,0,23,15],[3,0,3,15],[5,0,6,15],[15,6,15,9],[7,0,7,15],[8,0,8,15],[9,0,9,15]]}
[null,null,"CENTERS FOR DISEASE CONTROL & PREVENTION (CDC)"]
[]
[null,null,null,null,null,null,null,"Maxi-Vac 2.0*"]
[" A tool for planning smallpox vaccination clinics and mass vaccination sites"]
[]
["Contributors to the Spreadsheet Adaptation:\nCastonguay, François M.; Fischer, Leah S.; Jeon, S; Washington, Michael L.; Meltzer, Martin I. "]
[]
[]
["Date of this version:"]
["2021-10-08"]
[]
[]
[]
[]
[]
[null,null,null,null,null,null,"Contact Info: HEMU@cdc.gov"]

{"sheet":"Introduction","index":1,"n_rows":28,"n_cols":14,"rows_kept":28,"cut":false,"hidden":false,"merged":[[12,13,12,16],[4,13,4,16],[6,13,6,16],[8,13,8,16],[10,13,10,16]]}
["Introduction"]
[]
[null,null,"About the Tool",null,null,null,null,null,null,null,null,"Navigation and Instructions"]
[]
[null,null,null,null,null,null,null,null,null,null,null,null,null,"Click the arrow buttons on the upper\nright corner to navigate through the tool. "]
[]
[null,null,null,null,null,null,null,null,null,null,null,"User Input",null,"Peach-colored cells are designated user\ninput cells in which users will select from\na drop down menu or enter a value.  There\nare four peach/user input cells in this tool."]
[null,null,"Background"]
[null,null,null,null,null,null,null,null,null,null,null,"Calculated, fixed, or linked cell",null,"Grey cells contain formula, calculated values,\nor fixed factors; they are automatically updated\nbased on user entries in the yellow cells."]
[]
[null,null,null,null,null,null,null,null,null,null,null,"Pop-up box",null,"Bright yellow buttons are for pop-up boxes\non tabs 1-4 that contain additional information\nor helpful hints regarding variables user inputs."]
[null,null,"Description of the Simulation Model"]
[null,null,null,null,null,null,null,null,null,null,null,"Pop-up box",null,"Red buttons are for pop-up boxes on tabs 5-7\n that contain interpretation for results."]
[]
[]
[null,null,"How to Choose Between Maxi-Vac and Maxi-Vac Alternative"]
[]
[]
[]
[]
[]
[null,null,"Data Sources"]
[]
[]
[]
[null,null,"Additional Reference"]
[]
[null,null,null,null,null,null,null,null,null,null,null,null,null," "]

{"sheet":"1. Personnel","index":2,"n_rows":25,"n_cols":9,"rows_kept":25,"cut":false,"hidden":false,"merged":[[22,1,23,7],[22,8,23,8],[24,1,25,7],[24,8,25,8],[17,1,17,8],[18,1,19,7],[18,8,19,8],[20,1,21,7],[20,8,21,8]]}
["1. Select the number of staff available per 12-hour shift"]
[]
[]
[]
[]
[]
[]
[]
[null,"Number of shifts per 24-hour period (cannot be changed):",null,null,null,null,null,null,2]
[]
[null,"Select number of physicians per shift from pulldown menu:",null,null,null,null,null,null,9]
[]
[null,"Select number of nurses per shift from pulldown menu:",null,null,null,null,null,null,45]
[]
[null,"Select number of other staff per shift from pulldown menu:",null,null,null,null,null,null,5]
[]
[]
[null,"Total Staff"]
[null,"Total number of physicians in a 24-hour period:",null,null,null,null,null,null,{"$f":"I11*I9","v":18}]
[]
[null,"Total number of nurses in a 24-hour period:",null,null,null,null,null,null,{"$f":"I13*I9","v":90}]
[]
[null,"Total number of other staff in a 24-hour period:",null,null,null,null,null,null,{"$f":"I15*I9","v":10}]
[]
[null,"Total staff in a 24-hour period:",null,null,null,null,null,null,{"$f":"I19+I21+I23","v":118}]

{"sheet":"2. Activities","index":3,"n_rows":20,"n_cols":12,"rows_kept":20,"cut":false,"hidden":false,"merged":[[9,1,10,3],[9,4,10,4]]}
["2. Indicate the size of the orientation room"]
[]
[]
[null,null,null,null,null,null,null,null,"Dropdown menu options"]
[]
[null,null,null,null,null,null,"Activities that cannot be opt out of",null,"Yes",null,"Nb of shifts",2]
[]
[null,null,null,null,null,null,"Size of orientation room",null,30]
[]
[null,"Select orientation room\nsize from pulldown menu:",null,null,30,null,"Number of physicians",null,1,3,5,9]
[]
[null,null,null,null,null,null,"Number of nurses",null,15,30,45]
[]
[null,null,null,null,null,null,"Number of other staff",null,5,10,15]
[]
[null,null,null,null,null,null,"Orientation room size",null,30,75]
[]
[]
[]
[null,null,null,null,null,null,"Percentage of families",null,0.02,0.02,0.1,0.1]

{"sheet":"3. % of Families","index":4,"n_rows":14,"n_cols":9,"rows_kept":14,"cut":false,"hidden":false,"merged":[]}
["3. Percentages of families"]
[]
[]
[]
[]
[]
[]
[null,"Percentage of families turned away at triage:",null,null,null,null,null,null,0.02]
[]
[null,"Percentage of families that need to be treated elsewhere:",null,null,null,null,null,null,0.02]
[]
[null,"Percentage of families sent to medical screeners:",null,null,null,null,null,null,0.1]
[]
[null,"Percentage of families to see physician evaluator:",null,null,null,null,null,null,0.1]

{"sheet":"4. Scenario Summary","index":5,"n_rows":20,"n_cols":12,"rows_kept":20,"cut":false,"hidden":false,"merged":[[7,4,8,4],[5,1,6,3],[5,4,6,4],[10,2,11,3],[2,1,2,3],[3,1,3,3],[4,1,4,3],[7,1,8,3]]}
["4. Scenario Summary"]
[]
[null,"Number of physicians per shift:",null,null,{"$f":"IF('1. Personnel'!I11=0,\"*ERROR*\",'1. Personnel'!I11)","v":9}]
[null,"Number of nurses per shift:",null,null,{"$f":"IF('1. Personnel'!I13=0,\"*ERROR*\",'1. Personnel'!I13)","v":45},null,null,null,"Dropdown menu options"]
[null,"Number of other staff per shift:",null,null,{"$f":"IF('1. Personnel'!I15=0,\"*ERROR*\",'1. Personnel'!I15)","v":5}]
[null,"Total staff per shift",null,null,{"$f":"E3+E4+E5","v":59},null,"Activities that cannot be opt out of",null,"Yes",null,null,""]
[]
[null,"Total staff per 24 hours",null,null,{"$f":"'1. Personnel'!I9*'4. Scenario Summary'!E6","v":118},null,"Size of orientation room",null,30]
[]
[null,null,null,null,null,null,"Number of physicians",null,1,3,5,9]
[null,null,"Chosen size of\norientation room:"]
[null,null,null,null,{"$f":"IF('2. Activities'!E10=0,\"*ERROR*\",'2. Activities'!E10)","v":30},null,"Number of nurses",null,15,30,45]
[]
[null,null,null,null,null,null,"Number of other staff",null,5,10,15]
[]
[null,null,null,null,null,null,"Orientation room size",null,30,75]
[]
[]
[]
[null,null,null,null,null,null,"Percentage of families",null,0.02,0.02,0.1,0.1]

{"sheet":"5. Results – Vaccinated & Staff","index":6,"n_rows":18,"n_cols":10,"rows_kept":18,"cut":false,"hidden":false,"merged":[[6,6,6,9],[6,1,6,4],[4,1,4,3],[2,1,2,3],[3,1,3,3]]}
["5. Results for People Treated & Staff Placement and Utilization"]
[]
[null,"Total number of staff available per shift:",null,null,{"$f":"'Results INDEX-MATCH'!F10","v":59}]
[null,"Actual number of staff used per shift:",null,null,{"$f":"'Results INDEX-MATCH'!F12","v":29}]
[null,"Maximum number of people that can\n be treated in a 24-hour period:",null,null,{"$f":"'Results INDEX-MATCH'!F11","v":3369}]
[]
[null,"Optimal Staff Placement by Station per Shift",null,null,null,null,"Staff Utilization (Percentage of Time Busy) per Shift"]
[null,"Station Description","Physicians","Nurses","Other Staff",null,"Station Description","Physicians","Nurses","Other Staff"]
[null,"Triage personnel",{"$f":"'Results INDEX-MATCH'!C16","v":0},{"$f":"'Results INDEX-MATCH'!D16","v":3},{"$f":"'Results INDEX-MATCH'!E16","v":0},null,"Triage personnel",{"$f":"'Results INDEX-MATCH'!C31","v":0},{"$f":"'Results INDEX-MATCH'!D31","v":99.7},{"$f":"'Results INDEX-MATCH'!E31","v":0}]
[null,"Orientation personnel",{"$f":"'Results INDEX-MATCH'!C17","v":0},{"$f":"'Results INDEX-MATCH'!D17","v":0},{"$f":"'Results INDEX-MATCH'!E17","v":2},null,"Orientation personnel",{"$f":"'Results INDEX-MATCH'!C32","v":0},{"$f":"'Results INDEX-MATCH'!D32","v":0},{"$f":"'Results INDEX-MATCH'!E32","v":94.8}]
[null,"Medical form helper",{"$f":"'Results INDEX-MATCH'!C18","v":0},{"$f":"'Results INDEX-MATCH'!D18","v":0},{"$f":"'Results INDEX-MATCH'!E18","v":1},null,"Medical form helper",{"$f":"'Results INDEX-MATCH'!C33","v":0},{"$f":"'Results INDEX-MATCH'!D33","v":0},{"$f":"'Results INDEX-MATCH'!E33","v":4.5999999999999996}]
[null,"Referral personnel",{"$f":"'Results INDEX-MATCH'!C19","v":0},{"$f":"'Results INDEX-MATCH'!D19","v":0},{"$f":"'Results INDEX-MATCH'!E19","v":2},null,"Referral personnel",{"$f":"'Results INDEX-MATCH'!C34","v":0},{"$f":"'Results INDEX-MATCH'!D34","v":0},{"$f":"'Results INDEX-MATCH'!E34","v":64.900000000000006}]
[null,"Medical screener",{"$f":"'Results INDEX-MATCH'!C20","v":0},{"$f":"'Results INDEX-MATCH'!D20","v":5},{"$f":"'Results INDEX-MATCH'!E20","v":0},null,"Medical screener",{"$f":"'Results INDEX-MATCH'!C35","v":0},{"$f":"'Results INDEX-MATCH'!D35","v":47.3},{"$f":"'Results INDEX-MATCH'!E35","v":0}]
[null,"Physician evaluator",{"$f":"'Results INDEX-MATCH'!C21","v":2},{"$f":"'Results INDEX-MATCH'!D21","v":0},{"$f":"'Results INDEX-MATCH'!E21","v":0},null,"Physician evaluator",{"$f":"'Results INDEX-MATCH'!C36","v":11.4},{"$f":"'Results INDEX-MATCH'!D36","v":0},{"$f":"'Results INDEX-MATCH'!E36","v":0}]
[null,"Vaccinator",{"$f":"'Results INDEX-MATCH'!C22","v":0},{"$f":"'Results INDEX-MATCH'!D22","v":6},{"$f":"'Results INDEX-MATCH'!E22","v":0},null,"Vaccinator",{"$f":"'Results INDEX-MATCH'!C37","v":0},{"$f":"'Results INDEX-MATCH'!D37","v":45.7},{"$f":"'Results INDEX-MATCH'!E37","v":0}]
[null,"Witness",{"$f":"'Results INDEX-MATCH'!C23","v":0},{"$f":"'Results INDEX-MATCH'!D23","v":6},{"$f":"'Results INDEX-MATCH'!E23","v":0},null,"Witness",{"$f":"'Results INDEX-MATCH'!C38","v":0},{"$f":"'Results INDEX-MATCH'!D38","v":45.7},{"$f":"'Results INDEX-MATCH'!E38","v":0}]
[null,"Exit review Personnel",{"$f":"'Results INDEX-MATCH'!C24","v":0},{"$f":"'Results INDEX-MATCH'!D24","v":2},{"$f":"'Results INDEX-MATCH'!E24","v":0},null,"Exit review Personnel",{"$f":"'Results INDEX-MATCH'!C39","v":0},{"$f":"'Results INDEX-MATCH'!D39","v":53},{"$f":"'Results INDEX-MATCH'!E39","v":0}]
[null,"Total",{"$f":"SUM(C9:C17)","v":2},{"$f":"SUM(D9:D17)","v":22},{"$f":"SUM(E9:E17)","v":5}]

{"sheet":"6. Results – Time & Auxiliary","index":7,"n_rows":27,"n_cols":14,"rows_kept":27,"cut":false,"hidden":false,"merged":[[2,1,3,2],[2,4,2,5]]}
["6. Results for Average Time Spent & Auxiliary Staff"]
[]
[null,"Average Time Families Spent\nat Each Station (in Minutes)",null,null,"Auxiliary Staff"]
[null,null,null,null,"Station Description","Number per shift"]
[null,"Station Description","Average time (in minutes)",null,"Form distribution",9]
[null,"Triage",{"$f":"'Results INDEX-MATCH'!C76","v":4.2709999999999999},null,"Vaccine preparation",2]
[null,"Orientation",{"$f":"'Results INDEX-MATCH'!C77","v":33.972000000000001},null,"Medical records data",10]
[null,"Medical froms help",{"$f":"'Results INDEX-MATCH'!C78","v":3.9089999999999998},null,"Clinic manager",2]
[null,"Referral",{"$f":"'Results INDEX-MATCH'!C79","v":3.8069999999999999},null,"Supply manager",2]
[null,"Medical screening",{"$f":"'Results INDEX-MATCH'!C80","v":37.683},null,"Clinic QA reviewer",4]
[null,"Physician evaluation",{"$f":"'Results INDEX-MATCH'!C81","v":36.573},null,"Security",20]
[null,"Vaccination",{"$f":"'Results INDEX-MATCH'!C82","v":4.2850000000000001},null,"Traffic flow",2]
[null,"Witness",{"$f":"'Results INDEX-MATCH'!C83","v":4.2850000000000001},null,"Translator","1 (per major language)"]
[null,"Review/Exit",{"$f":"'Results INDEX-MATCH'!C84","v":3.944},null,"Float staff",3]
[null,null,null,null,"Contact evaluation",4]
[null,null,null,null,"EMT",1]
[null,null,null,null,"IT support",1]
[null,null,null,null,"Total",{"$f":"SUM(F5:F12)+SUM(F14:F17)+1","v":61}]
[]
[]
[]
[]
[]
[]
[]
[]
[null,null,null,null,null,null,null,null,null,null,null,null,null,"`"]

{"sheet":"7. Results – Adding & Removing","index":8,"n_rows":14,"n_cols":10,"rows_kept":14,"cut":false,"hidden":false,"merged":[[2,1,3,4],[2,6,3,9]]}
["7. Results for Impact/Minus One & Impact/Plus One"]
[]
[null,"Impact on the Number of People Treated\nby Removing One Staff per Station per Shift",null,null,null,null,"Impact on the Number of People Treated\nby Adding One Staff per Station per Shift"]
[]
[null,"Station Description","Physicians","Nurses","Other Staff",null,"Station Description","Physicians","Nurses","Other Staff"]
[null,"Triage",{"$f":"'Results INDEX-MATCH'!C61","v":0},{"$f":"'Results INDEX-MATCH'!D61","v":-1110},{"$f":"'Results INDEX-MATCH'!E61","v":0},null,"Triage",{"$f":"'Results INDEX-MATCH'!C46","v":0},{"$f":"'Results INDEX-MATCH'!D46","v":141},{"$f":"'Results INDEX-MATCH'!E46","v":0}]
[null,"Orientation",{"$f":"'Results INDEX-MATCH'!C62","v":0},{"$f":"'Results INDEX-MATCH'!D62","v":0},{"$f":"'Results INDEX-MATCH'!E62","v":-1614},null,"Orientation",{"$f":"'Results INDEX-MATCH'!C47","v":0},{"$f":"'Results INDEX-MATCH'!D47","v":0},{"$f":"'Results INDEX-MATCH'!E47","v":8}]
[null,"Medical froms help",{"$f":"'Results INDEX-MATCH'!C63","v":0},{"$f":"'Results INDEX-MATCH'!D63","v":0},{"$f":"'Results INDEX-MATCH'!E63","v":"na"},null,"Medical froms help",{"$f":"'Results INDEX-MATCH'!C48","v":0},{"$f":"'Results INDEX-MATCH'!D48","v":0},{"$f":"'Results INDEX-MATCH'!E48","v":-2}]
[null,"Referral",{"$f":"'Results INDEX-MATCH'!C64","v":0},{"$f":"'Results INDEX-MATCH'!D64","v":0},{"$f":"'Results INDEX-MATCH'!E64","v":-1},null,"Referral",{"$f":"'Results INDEX-MATCH'!C49","v":0},{"$f":"'Results INDEX-MATCH'!D49","v":0},{"$f":"'Results INDEX-MATCH'!E49","v":-1}]
[null,"Medical screening",{"$f":"'Results INDEX-MATCH'!C65","v":0},{"$f":"'Results INDEX-MATCH'!D65","v":-8},{"$f":"'Results INDEX-MATCH'!E65","v":0},null,"Medical screening",{"$f":"'Results INDEX-MATCH'!C50","v":0},{"$f":"'Results INDEX-MATCH'!D50","v":-2},{"$f":"'Results INDEX-MATCH'!E50","v":0}]
[null,"Physician evaluation",{"$f":"'Results INDEX-MATCH'!C66","v":-7},{"$f":"'Results INDEX-MATCH'!D66","v":0},{"$f":"'Results INDEX-MATCH'!E66","v":0},null,"Physician evaluation",{"$f":"'Results INDEX-MATCH'!C51","v":3},{"$f":"'Results INDEX-MATCH'!D51","v":0},{"$f":"'Results INDEX-MATCH'!E51","v":0}]
[null,"Vaccination",{"$f":"'Results INDEX-MATCH'!C67","v":0},{"$f":"'Results INDEX-MATCH'!D67","v":6},{"$f":"'Results INDEX-MATCH'!E67","v":0},null,"Vaccination",{"$f":"'Results INDEX-MATCH'!C52","v":0},{"$f":"'Results INDEX-MATCH'!D52","v":1},{"$f":"'Results INDEX-MATCH'!E52","v":0}]
[null,"Witness",{"$f":"'Results INDEX-MATCH'!C68","v":0},{"$f":"'Results INDEX-MATCH'!D68","v":6},{"$f":"'Results INDEX-MATCH'!E68","v":0},null,"Witness",{"$f":"'Results INDEX-MATCH'!C53","v":0},{"$f":"'Results INDEX-MATCH'!D53","v":1},{"$f":"'Results INDEX-MATCH'!E53","v":0}]
[null,"Review/Exit",{"$f":"'Results INDEX-MATCH'!C69","v":0},{"$f":"'Results INDEX-MATCH'!D69","v":-5},{"$f":"'Results INDEX-MATCH'!E69","v":0},null,"Review/Exit",{"$f":"'Results INDEX-MATCH'!C54","v":0},{"$f":"'Results INDEX-MATCH'!D54","v":-4},{"$f":"'Results INDEX-MATCH'!E54","v":0}]

{"sheet":"Technical Appendix","index":9,"n_rows":36,"n_cols":23,"rows_kept":36,"cut":false,"hidden":false,"merged":[[11,14,12,17],[13,14,14,17],[23,1,24,11],[23,12,24,12],[2,14,3,25],[11,18,12,21],[15,18,16,21],[17,14,18,17],[19,14,20,17],[23,14,24,17],[21,18,22,21],[11,22,12,25],[13,22,14,25],[15,22,16,25],[23,22,24,25],[4,14,8,17],[25,1,26,11],[25,12,26,12],[19,1,20,12],[21,1,22,11],[21,12,22,12],[35,1,36,11],[35,12,36,12],[27,1,28,11],[27,12,28,12],[29,1,30,11],[29,12,30,12],[31,1,32,11],[31,12,32,12],[33,1,34,11],[33,12,34,12],[4,18,8,21],[4,22,8,25],[9,14,10,17],[9,18,10,21],[9,22,10,25],[25,22,26,25],[21,14,22,17],[21,22,22,25],[13,18,14,21],[17,18,18,21],[25,18,26,21],[25,14,26,17],[19,18,20,21],[23,18,24,21],[15,14,16,17],[19,22,20,25],[17,22,18,25]]}
["Technical Appendix"]
[]
[null,null,null,null,null,null,null,null,null,null,null,null,null,null,"Input Distributions*"]
[]
[null,null,null,null,null,null,null,null,null,null,null,null,null,null,"Process",null,null,null,"Version 1 (this version)\nTriangular Distribution\n(Minimum, Most Likely, Maximum)\n(in minutes)",null,null,null,"Alternative Version\nTriangular Distribution\n(unless specified below)"]
[]
[]
[]
[]
[null,null,null,null,null,null,null,null,null,null,null,null,null,null,"Triage (per family member)",null,null,null,"(0.5, 1.0, 2.0)",null,null,null,"(0.5, 1.0, 2.0)"]
[]
[null,null,null,null,null,null,null,null,null,null,null,null,null,null,"Orientation",null,null,null,"(20, 25, 30)",null,null,null,"(13, 14, 15)"]
[]
[null,null,null,null,null,null,null,null,null,null,null,null,null,null,"Fill-out forms w/o help (per family member)",null,null,null,"(0.5, 1.0, 1.5)",null,null,null,"33 * BETA(0.518, 6.25)"]
[]
[null,null,null,null,null,null,null,null,null,null,null,null,null,null,"Fill-out forms w/ help (per family member)",null,null,null,"(0.3, 1.0, 1.5)",null,null,null,"33 * BETA(0.518, 6.25)"]
[]
[null,null,null,null,null,null,null,null,null,null,null,null,null,null,"Referral (per family member)",null,null,null,"(0.4, 0.5, 0.75)",null,null,null,"(0.4, 0.5, 0.75)"]
[]
[null,"Input Probabilities",null,null,null,null,null,null,null,null,null,null,null,null,"Medical screening (per family member)",null,null,null,"(5, 10, 15)",null,null,null,"-0.001 + LOGN(0.859, 0.508)"]
[]
[null,"Description",null,null,null,null,null,null,null,null,null,null,"Percent",null,"Physician evaluation",null,null,null,"(5, 10, 15)",null,null,null,"(0.1, 0.5, 0.75)"]
[]
[null,"Percent of families in which all have previously have been vaccinated*",null,null,null,null,null,null,null,null,null,null,2,null,"Exit review (per family member)",null,null,null,"(2, 3, 5)",null,null,null,"ERLA(0.0599,5)"]
[]
[null,"Percent symptomatic/contact (exit clinic); these families exit the clinic after being triaged",null,null,null,null,null,null,null,null,null,null,1,null,"Vaccination (per family member)",null,null,null,"(0.5, 1.0, 1.5)",null,null,null,"1 + ERLA(0.3, 2)"]
[]
[null,"Percent identified as not treatable at the clinic site; these families exit the clinic after being triaged",null,null,null,null,null,null,null,null,null,null,2]
[]
[null,"Percent of people who need help with filling out their medical/consent forms",null,null,null,null,null,null,null,null,null,null,2]
[]
[null,"Percent with complicating health factors; these families require additional medical screening beyond that given at the referral station",null,null,null,null,null,null,null,null,null,null,10]
[]
[null,"Percent with complicating health factors that are identified by the medical screener and who are not treatable on site; these families will exit\nthe clinic after seeing a medical screener and will exit the clinic before receiving a vaccination",null,null,null,null,null,null,null,null,null,null,10]
[]
[null,"Percent with complicating health factors that are identified by the physician evaluator and who are not treatable on site; these families will exit\nthe clinic after seeing the physician evaluator and will exit the clinic before receiving a vaccination",null,null,null,null,null,null,null,null,null,null,5]

{"sheet":"Clinic Flow","index":10,"n_rows":27,"n_cols":7,"rows_kept":27,"cut":false,"hidden":false,"merged":[]}
["Vaccination Site Flow Chart"]
[]
[]
[]
[]
[]
[]
[]
[]
[]
[]
[]
[]
[]
[]
[]
[]
[]
[]
[]
[]
[]
[]
[]
[]
[]
[null,null,null,null,null,{"$f":"\"Average Time for Medical Screening: \"&'6. Results – Time & Auxiliary'!C10&\" min. (only \"&TEXT('3. % of Families'!K12,\"0%\")&\" of families)\"","v":"Average Time for Medical Screening: 37.683 min. (only 0% of families)"},{"$f":"\"Average Time for Physical Evaluation: \"&'6. Results – Time & Auxiliary'!C11&\" min. (only 2% of families)\"","v":"Average Time for Physical Evaluation: 36.573 min. (only 2% of families)"}]

{"sheet":"Results INDEX-MATCH","index":11,"n_rows":84,"n_cols":18,"rows_kept":84,"cut":false,"hidden":false,"merged":[[43,1,43,4],[58,1,58,4],[73,1,73,2],[9,0,9,4],[11,0,11,4],[10,0,10,4],[13,1,13,4],[28,1,28,4]]}
[null,"Physicians",{"$f":"IF('1. Personnel'!I11=0,\"*ERROR*\",'1. Personnel'!I11)","v":9}]
[null,"Nurses",{"$f":"IF('1. Personnel'!I13=0,\"*ERROR*\",'1. Personnel'!I13)","v":45}]
[null,"Other Staff",{"$f":"IF('1. Personnel'!I15=0,\"*ERROR*\",'1. Personnel'!I15)","v":5}]
[null,"Orientation \nRoom Size",{"$f":"IF('2. Activities'!E10=0,\"*ERROR*\",'2. Activities'!E10)","v":30}]
[null,"Unique ID",{"$f":"VALUE(_xlfn.CONCAT(C1,C2,C3,C4))","v":945530}]
[]
[]
[]
[]
["Total number of staff available per shift:",null,null,null,null,{"$f":"C1+C2+C3","v":59}]
["Maximum number of people that can be treated in a 24-hour period:",null,null,null,null,{"$f":"INDEX('Maxi-Vac_Datasheet'!F1:F77,MATCH($C$5,'Maxi-Vac_Datasheet'!$E$1:$E$77,0))","v":3369},{"$f":"MATCH($C$5,'Maxi-Vac_Datasheet'!$E$1:$E$77,0)","v":17}]
["Actual number of staff used per shift:",null,null,null,null,{"$f":"INDEX('Maxi-Vac_Datasheet'!G1:G77,MATCH($C$5,'Maxi-Vac_Datasheet'!$E$1:$E$77,0))","v":29},{"$f":"MATCH($C$5,'Maxi-Vac_Datasheet'!$E$1:$E$77,0)","v":17}]
[]
[null,"People Treated"]
[null,"Station Description","Physicians","Nurses","Other Staff",null,null,"Station Description","Triage Personnel","Orientation personnel","Medical form helper","Referral personnel","Medical screener","Physician Evaluator","Vaccinator","Witness","Exit review Personnel","Total"]
[null,"Triage Personnel",{"$f":"TRANSPOSE(I16:Q16)","v":0},{"$f":"TRANSPOSE(I17:Q17)","v":3},{"$f":"TRANSPOSE(I18:Q18)","v":0},null,null,"Physicians",{"$f":"INDEX('Maxi-Vac_Datasheet'!H1:H77,MATCH($C$5,'Maxi-Vac_Datasheet'!$E$1:$E$77,0))","v":0},{"$f":"INDEX('Maxi-Vac_Datasheet'!I1:I77,MATCH($C$5,'Maxi-Vac_Datasheet'!$E$1:$E$77,0))","v":0},{"$f":"INDEX('Maxi-Vac_Datasheet'!J1:J77,MATCH($C$5,'Maxi-Vac_Datasheet'!$E$1:$E$77,0))","v":0},{"$f":"INDEX('Maxi-Vac_Datasheet'!K1:K77,MATCH($C$5,'Maxi-Vac_Datasheet'!$E$1:$E$77,0))","v":0},{"$f":"INDEX('Maxi-Vac_Datasheet'!L1:L77,MATCH($C$5,'Maxi-Vac_Datasheet'!$E$1:$E$77,0))","v":0},{"$f":"INDEX('Maxi-Vac_Datasheet'!M1:M77,MATCH($C$5,'Maxi-Vac_Datasheet'!$E$1:$E$77,0))","v":2},{"$f":"INDEX('Maxi-Vac_Datasheet'!N1:N77,MATCH($C$5,'Maxi-Vac_Datasheet'!$E$1:$E$77,0))","v":0},{"$f":"INDEX('Maxi-Vac_Datasheet'!O1:O77,MATCH($C$5,'Maxi-Vac_Datasheet'!$E$1:$E$77,0))","v":0},{"$f":"INDEX('Maxi-Vac_Datasheet'!P1:P77,MATCH($C$5,'Maxi-Vac_Datasheet'!$E$1:$E$77,0))","v":0}]
[null,"Orientation personnel",0,0,2,null,null,"Nurses",{"$f":"INDEX('Maxi-Vac_Datasheet'!Q1:Q77,MATCH($C$5,'Maxi-Vac_Datasheet'!$E$1:$E$77,0))","v":3},{"$f":"INDEX('Maxi-Vac_Datasheet'!R1:R77,MATCH($C$5,'Maxi-Vac_Datasheet'!$E$1:$E$77,0))","v":0},{"$f":"INDEX('Maxi-Vac_Datasheet'!S1:S77,MATCH($C$5,'Maxi-Vac_Datasheet'!$E$1:$E$77,0))","v":0},{"$f":"INDEX('Maxi-Vac_Datasheet'!T1:T77,MATCH($C$5,'Maxi-Vac_Datasheet'!$E$1:$E$77,0))","v":0},{"$f":"INDEX('Maxi-Vac_Datasheet'!U1:U77,MATCH($C$5,'Maxi-Vac_Datasheet'!$E$1:$E$77,0))","v":5},{"$f":"INDEX('Maxi-Vac_Datasheet'!V1:V77,MATCH($C$5,'Maxi-Vac_Datasheet'!$E$1:$E$77,0))","v":0},{"$f":"INDEX('Maxi-Vac_Datasheet'!W1:W77,MATCH($C$5,'Maxi-Vac_Datasheet'!$E$1:$E$77,0))","v":6},{"$f":"INDEX('Maxi-Vac_Datasheet'!X1:X77,MATCH($C$5,'Maxi-Vac_Datasheet'!$E$1:$E$77,0))","v":6},{"$f":"INDEX('Maxi-Vac_Datasheet'!Y1:Y77,MATCH($C$5,'Maxi-Vac_Datasheet'!$E$1:$E$77,0))","v":2}]
[null,"Medical form helper",0,0,1,null,null,"Other Staff",{"$f":"INDEX('Maxi-Vac_Datasheet'!Z1:Z77,MATCH($C$5,'Maxi-Vac_Datasheet'!$E$1:$E$77,0))","v":0},{"$f":"INDEX('Maxi-Vac_Datasheet'!AA1:AA77,MATCH($C$5,'Maxi-Vac_Datasheet'!$E$1:$E$77,0))","v":2},{"$f":"INDEX('Maxi-Vac_Datasheet'!AB1:AB77,MATCH($C$5,'Maxi-Vac_Datasheet'!$E$1:$E$77,0))","v":1},{"$f":"INDEX('Maxi-Vac_Datasheet'!AC1:AC77,MATCH($C$5,'Maxi-Vac_Datasheet'!$E$1:$E$77,0))","v":2},{"$f":"INDEX('Maxi-Vac_Datasheet'!AD1:AD77,MATCH($C$5,'Maxi-Vac_Datasheet'!$E$1:$E$77,0))","v":0},{"$f":"INDEX('Maxi-Vac_Datasheet'!AE1:AE77,MATCH($C$5,'Maxi-Vac_Datasheet'!$E$1:$E$77,0))","v":0},{"$f":"INDEX('Maxi-Vac_Datasheet'!AF1:AF77,MATCH($C$5,'Maxi-Vac_Datasheet'!$E$1:$E$77,0))","v":0},{"$f":"INDEX('Maxi-Vac_Datasheet'!AG1:AG77,MATCH($C$5,'Maxi-Vac_Datasheet'!$E$1:$E$77,0))","v":0},{"$f":"INDEX('Maxi-Vac_Datasheet'!AH1:AH77,MATCH($C$5,'Maxi-Vac_Datasheet'!$E$1:$E$77,0))","v":0}]
[null,"Referral personnel",0,0,2]
[null,"Medical screener",0,5,0]
[null,"Physician Evaluator",2,0,0]
[null,"Vaccinator",0,6,0]
[null,"Witness",0,6,0]
[null,"Exit review Personnel",0,2,0]
[null,"Total",{"$f":"SUM(C16:C24)","v":2},{"$f":"SUM(D16:D24)","v":22},{"$f":"SUM(E16:E24)","v":5}]
[]
[]
[]
[null,"Staff Utilization"]
[null,"Station Description","Physicians","Nurses","Other Staff",null,null,"Station Description","Triage personnel","Orientation personnel","Medical form helper","Referral personnel","Medical screener","Physician evaluator","Vaccinator","Witness","Exit review Personnel"]
[null,"Triage personnel",{"$f":"TRANSPOSE(I31:Q31)","v":0},{"$f":"TRANSPOSE(I32:Q32)","v":99.7},{"$f":"TRANSPOSE(I33:Q33)","v":0},null,null,"Physicians",{"$f":"INDEX('Maxi-Vac_Datasheet'!AI1:AI77,MATCH($C$5,'Maxi-Vac_Datasheet'!$E$1:$E$77,0))","v":0},{"$f":"INDEX('Maxi-Vac_Datasheet'!AJ1:AJ77,MATCH($C$5,'Maxi-Vac_Datasheet'!$E$1:$E$77,0))","v":0},{"$f":"INDEX('Maxi-Vac_Datasheet'!AK1:AK77,MATCH($C$5,'Maxi-Vac_Datasheet'!$E$1:$E$77,0))","v":0},{"$f":"INDEX('Maxi-Vac_Datasheet'!AL1:AL77,MATCH($C$5,'Maxi-Vac_Datasheet'!$E$1:$E$77,0))","v":0},{"$f":"INDEX('Maxi-Vac_Datasheet'!AM1:AM77,MATCH($C$5,'Maxi-Vac_Datasheet'!$E$1:$E$77,0))","v":0},{"$f":"INDEX('Maxi-Vac_Datasheet'!AN1:AN77,MATCH($C$5,'Maxi-Vac_Datasheet'!$E$1:$E$77,0))","v":11.4},{"$f":"INDEX('Maxi-Vac_Datasheet'!AO1:AO77,MATCH($C$5,'Maxi-Vac_Datasheet'!$E$1:$E$77,0))","v":0},{"$f":"INDEX('Maxi-Vac_Datasheet'!AP1:AP77,MATCH($C$5,'Maxi-Vac_Datasheet'!$E$1:$E$77,0))","v":0},{"$f":"INDEX('Maxi-Vac_Datasheet'!AQ1:AQ77,MATCH($C$5,'Maxi-Vac_Datasheet'!$E$1:$E$77,0))","v":0}]
[null,"Orientation personnel",0,0,94.8,null,null,"Nurses",{"$f":"INDEX('Maxi-Vac_Datasheet'!AR1:AR77,MATCH($C$5,'Maxi-Vac_Datasheet'!$E$1:$E$77,0))","v":99.7},{"$f":"INDEX('Maxi-Vac_Datasheet'!AS1:AS77,MATCH($C$5,'Maxi-Vac_Datasheet'!$E$1:$E$77,0))","v":0},{"$f":"INDEX('Maxi-Vac_Datasheet'!AT1:AT77,MATCH($C$5,'Maxi-Vac_Datasheet'!$E$1:$E$77,0))","v":0},{"$f":"INDEX('Maxi-Vac_Datasheet'!AU1:AU77,MATCH($C$5,'Maxi-Vac_Datasheet'!$E$1:$E$77,0))","v":0},{"$f":"INDEX('Maxi-Vac_Datasheet'!AV1:AV77,MATCH($C$5,'Maxi-Vac_Datasheet'!$E$1:$E$77,0))","v":47.3},{"$f":"INDEX('Maxi-Vac_Datasheet'!AW1:AW77,MATCH($C$5,'Maxi-Vac_Datasheet'!$E$1:$E$77,0))","v":0},{"$f":"INDEX('Maxi-Vac_Datasheet'!AX1:AX77,MATCH($C$5,'Maxi-Vac_Datasheet'!$E$1:$E$77,0))","v":45.7},{"$f":"INDEX('Maxi-Vac_Datasheet'!AY1:AY77,MATCH($C$5,'Maxi-Vac_Datasheet'!$E$1:$E$77,0))","v":45.7},{"$f":"INDEX('Maxi-Vac_Datasheet'!AZ1:AZ77,MATCH($C$5,'Maxi-Vac_Datasheet'!$E$1:$E$77,0))","v":53}]
[null,"Medical form helper",0,0,4.5999999999999996,null,null,"Other Staff",{"$f":"INDEX('Maxi-Vac_Datasheet'!BA1:BA77,MATCH($C$5,'Maxi-Vac_Datasheet'!$E$1:$E$77,0))","v":0},{"$f":"INDEX('Maxi-Vac_Datasheet'!BB1:BB77,MATCH($C$5,'Maxi-Vac_Datasheet'!$E$1:$E$77,0))","v":94.8},{"$f":"INDEX('Maxi-Vac_Datasheet'!BC1:BC77,MATCH($C$5,'Maxi-Vac_Datasheet'!$E$1:$E$77,0))","v":4.5999999999999996},{"$f":"INDEX('Maxi-Vac_Datasheet'!BD1:BD77,MATCH($C$5,'Maxi-Vac_Datasheet'!$E$1:$E$77,0))","v":64.900000000000006},{"$f":"INDEX('Maxi-Vac_Datasheet'!BE1:BE77,MATCH($C$5,'Maxi-Vac_Datasheet'!$E$1:$E$77,0))","v":0},{"$f":"INDEX('Maxi-Vac_Datasheet'!BF1:BF77,MATCH($C$5,'Maxi-Vac_Datasheet'!$E$1:$E$77,0))","v":0},{"$f":"INDEX('Maxi-Vac_Datasheet'!BG1:BG77,MATCH($C$5,'Maxi-Vac_Datasheet'!$E$1:$E$77,0))","v":0},{"$f":"INDEX('Maxi-Vac_Datasheet'!BH1:BH77,MATCH($C$5,'Maxi-Vac_Datasheet'!$E$1:$E$77,0))","v":0},{"$f":"INDEX('Maxi-Vac_Datasheet'!BI1:BI77,MATCH($C$5,'Maxi-Vac_Datasheet'!$E$1:$E$77,0))","v":0}]
[null,"Referral personnel",0,0,64.900000000000006]
[null,"Medical screener",0,47.3,0]
[null,"Physician evaluator",11.4,0,0]
[null,"Vaccinator",0,45.7,0]
[null,"Witness",0,45.7,0]
[null,"Exit review Personnel",0,53,0]
[]
[]
[]
[]
[null,"Impact/Plus One"]
[null,"Station Description","Physicians","Nurses","Other Staff"]
[null,"Triage",{"$f":"TRANSPOSE(I47:Q47)","v":0},{"$f":"TRANSPOSE(I48:Q48)","v":141},{"$f":"TRANSPOSE(I49:Q49)","v":0},null,null,"Station Description","Triage","Orientation","Medical froms help","Referral","Medical screening","Physician evaluation","Vaccination","Witness","Review/Exit"]
[null,"Orientation",0,0,8,null,null,"Physicians",{"$f":"INDEX('Maxi-Vac_Datasheet'!BJ1:BJ77,MATCH($C$5,'Maxi-Vac_Datasheet'!$E$1:$E$77,0))","v":0},{"$f":"INDEX('Maxi-Vac_Datasheet'!BK1:BK77,MATCH($C$5,'Maxi-Vac_Datasheet'!$E$1:$E$77,0))","v":0},{"$f":"INDEX('Maxi-Vac_Datasheet'!BL1:BL77,MATCH($C$5,'Maxi-Vac_Datasheet'!$E$1:$E$77,0))","v":0},{"$f":"INDEX('Maxi-Vac_Datasheet'!BM1:BM77,MATCH($C$5,'Maxi-Vac_Datasheet'!$E$1:$E$77,0))","v":0},{"$f":"INDEX('Maxi-Vac_Datasheet'!BN1:BN77,MATCH($C$5,'Maxi-Vac_Datasheet'!$E$1:$E$77,0))","v":0},{"$f":"INDEX('Maxi-Vac_Datasheet'!BO1:BO77,MATCH($C$5,'Maxi-Vac_Datasheet'!$E$1:$E$77,0))","v":3},{"$f":"INDEX('Maxi-Vac_Datasheet'!BP1:BP77,MATCH($C$5,'Maxi-Vac_Datasheet'!$E$1:$E$77,0))","v":0},{"$f":"INDEX('Maxi-Vac_Datasheet'!BQ1:BQ77,MATCH($C$5,'Maxi-Vac_Datasheet'!$E$1:$E$77,0))","v":0},{"$f":"INDEX('Maxi-Vac_Datasheet'!BR1:BR77,MATCH($C$5,'Maxi-Vac_Datasheet'!$E$1:$E$77,0))","v":0}]
[null,"Medical froms help",0,0,-2,null,null,"Nurses",{"$f":"INDEX('Maxi-Vac_Datasheet'!BS1:BS77,MATCH($C$5,'Maxi-Vac_Datasheet'!$E$1:$E$77,0))","v":141},{"$f":"INDEX('Maxi-Vac_Datasheet'!BT1:BT77,MATCH($C$5,'Maxi-Vac_Datasheet'!$E$1:$E$77,0))","v":0},{"$f":"INDEX('Maxi-Vac_Datasheet'!BU1:BU77,MATCH($C$5,'Maxi-Vac_Datasheet'!$E$1:$E$77,0))","v":0},{"$f":"INDEX('Maxi-Vac_Datasheet'!BV1:BV77,MATCH($C$5,'Maxi-Vac_Datasheet'!$E$1:$E$77,0))","v":0},{"$f":"INDEX('Maxi-Vac_Datasheet'!BW1:BW77,MATCH($C$5,'Maxi-Vac_Datasheet'!$E$1:$E$77,0))","v":-2},{"$f":"INDEX('Maxi-Vac_Datasheet'!BX1:BX77,MATCH($C$5,'Maxi-Vac_Datasheet'!$E$1:$E$77,0))","v":0},{"$f":"INDEX('Maxi-Vac_Datasheet'!BY1:BY77,MATCH($C$5,'Maxi-Vac_Datasheet'!$E$1:$E$77,0))","v":1},{"$f":"INDEX('Maxi-Vac_Datasheet'!BZ1:BZ77,MATCH($C$5,'Maxi-Vac_Datasheet'!$E$1:$E$77,0))","v":1},{"$f":"INDEX('Maxi-Vac_Datasheet'!CA1:CA77,MATCH($C$5,'Maxi-Vac_Datasheet'!$E$1:$E$77,0))","v":-4}]
[null,"Referral",0,0,-1,null,null,"Other Staff",{"$f":"INDEX('Maxi-Vac_Datasheet'!CB1:CB77,MATCH($C$5,'Maxi-Vac_Datasheet'!$E$1:$E$77,0))","v":0},{"$f":"INDEX('Maxi-Vac_Datasheet'!CC1:CC77,MATCH($C$5,'Maxi-Vac_Datasheet'!$E$1:$E$77,0))","v":8},{"$f":"INDEX('Maxi-Vac_Datasheet'!CD1:CD77,MATCH($C$5,'Maxi-Vac_Datasheet'!$E$1:$E$77,0))","v":-2},{"$f":"INDEX('Maxi-Vac_Datasheet'!CE1:CE77,MATCH($C$5,'Maxi-Vac_Datasheet'!$E$1:$E$77,0))","v":-1},{"$f":"INDEX('Maxi-Vac_Datasheet'!CF1:CF77,MATCH($C$5,'Maxi-Vac_Datasheet'!$E$1:$E$77,0))","v":0},{"$f":"INDEX('Maxi-Vac_Datasheet'!CG1:CG77,MATCH($C$5,'Maxi-Vac_Datasheet'!$E$1:$E$77,0))","v":0},{"$f":"INDEX('Maxi-Vac_Datasheet'!CH1:CH77,MATCH($C$5,'Maxi-Vac_Datasheet'!$E$1:$E$77,0))","v":0},{"$f":"INDEX('Maxi-Vac_Datasheet'!CI1:CI77,MATCH($C$5,'Maxi-Vac_Datasheet'!$E$1:$E$77,0))","v":0},{"$f":"INDEX('Maxi-Vac_Datasheet'!CJ1:CJ77,MATCH($C$5,'Maxi-Vac_Datasheet'!$E$1:$E$77,0))","v":0}]
[null,"Medical screening",0,-2,0]
[null,"Physician evaluation",3,0,0]
[null,"Vaccination",0,1,0]
[null,"Witness",0,1,0]
[null,"Review/Exit",0,-4,0]
[]
[]
[]
[]
[null,"Impact/Minus One"]
[null,"Station Description","Physicians","Nurses","Other Staff",null,null,"Station Description","Triage","Orientation","Medical froms help","Referral","Medical screening","Physician evaluation","Vaccination","Witness","Review/Exit"]
[null,"Triage",{"$f":"TRANSPOSE(I61:Q61)","v":0},{"$f":"TRANSPOSE(I62:Q62)","v":-1110},{"$f":"TRANSPOSE(I63:Q63)","v":0},null,null,"Physicians",{"$f":"INDEX('Maxi-Vac_Datasheet'!CK1:CK77,MATCH($C$5,'Maxi-Vac_Datasheet'!$E$1:$E$77,0))","v":0},{"$f":"INDEX('Maxi-Vac_Datasheet'!CL1:CL77,MATCH($C$5,'Maxi-Vac_Datasheet'!$E$1:$E$77,0))","v":0},{"$f":"INDEX('Maxi-Vac_Datasheet'!CM1:CM77,MATCH($C$5,'Maxi-Vac_Datasheet'!$E$1:$E$77,0))","v":0},{"$f":"INDEX('Maxi-Vac_Datasheet'!CN1:CN77,MATCH($C$5,'Maxi-Vac_Datasheet'!$E$1:$E$77,0))","v":0},{"$f":"INDEX('Maxi-Vac_Datasheet'!CO1:CO77,MATCH($C$5,'Maxi-Vac_Datasheet'!$E$1:$E$77,0))","v":0},{"$f":"INDEX('Maxi-Vac_Datasheet'!CP1:CP77,MATCH($C$5,'Maxi-Vac_Datasheet'!$E$1:$E$77,0))","v":-7},{"$f":"INDEX('Maxi-Vac_Datasheet'!CQ1:CQ77,MATCH($C$5,'Maxi-Vac_Datasheet'!$E$1:$E$77,0))","v":0},{"$f":"INDEX('Maxi-Vac_Datasheet'!CR1:CR77,MATCH($C$5,'Maxi-Vac_Datasheet'!$E$1:$E$77,0))","v":0},{"$f":"INDEX('Maxi-Vac_Datasheet'!CS1:CS77,MATCH($C$5,'Maxi-Vac_Datasheet'!$E$1:$E$77,0))","v":0}]
[null,"Orientation",0,0,-1614,null,null,"Nurses",{"$f":"INDEX('Maxi-Vac_Datasheet'!CT1:CT77,MATCH($C$5,'Maxi-Vac_Datasheet'!$E$1:$E$77,0))","v":-1110},{"$f":"INDEX('Maxi-Vac_Datasheet'!CU1:CU77,MATCH($C$5,'Maxi-Vac_Datasheet'!$E$1:$E$77,0))","v":0},{"$f":"INDEX('Maxi-Vac_Datasheet'!CV1:CV77,MATCH($C$5,'Maxi-Vac_Datasheet'!$E$1:$E$77,0))","v":0},{"$f":"INDEX('Maxi-Vac_Datasheet'!CW1:CW77,MATCH($C$5,'Maxi-Vac_Datasheet'!$E$1:$E$77,0))","v":0},{"$f":"INDEX('Maxi-Vac_Datasheet'!CX1:CX77,MATCH($C$5,'Maxi-Vac_Datasheet'!$E$1:$E$77,0))","v":-8},{"$f":"INDEX('Maxi-Vac_Datasheet'!CY1:CY77,MATCH($C$5,'Maxi-Vac_Datasheet'!$E$1:$E$77,0))","v":0},{"$f":"INDEX('Maxi-Vac_Datasheet'!CZ1:CZ77,MATCH($C$5,'Maxi-Vac_Datasheet'!$E$1:$E$77,0))","v":6},{"$f":"INDEX('Maxi-Vac_Datasheet'!DA1:DA77,MATCH($C$5,'Maxi-Vac_Datasheet'!$E$1:$E$77,0))","v":6},{"$f":"INDEX('Maxi-Vac_Datasheet'!DB1:DB77,MATCH($C$5,'Maxi-Vac_Datasheet'!$E$1:$E$77,0))","v":-5}]
[null,"Medical froms help",0,0,"na",null,null,"Other Staff",{"$f":"INDEX('Maxi-Vac_Datasheet'!DC1:DC77,MATCH($C$5,'Maxi-Vac_Datasheet'!$E$1:$E$77,0))","v":0},{"$f":"INDEX('Maxi-Vac_Datasheet'!DD1:DD77,MATCH($C$5,'Maxi-Vac_Datasheet'!$E$1:$E$77,0))","v":-1614},{"$f":"INDEX('Maxi-Vac_Datasheet'!DE1:DE77,MATCH($C$5,'Maxi-Vac_Datasheet'!$E$1:$E$77,0))","v":"na"},{"$f":"INDEX('Maxi-Vac_Datasheet'!DF1:DF77,MATCH($C$5,'Maxi-Vac_Datasheet'!$E$1:$E$77,0))","v":-1},{"$f":"INDEX('Maxi-Vac_Datasheet'!DG1:DG77,MATCH($C$5,'Maxi-Vac_Datasheet'!$E$1:$E$77,0))","v":0},{"$f":"INDEX('Maxi-Vac_Datasheet'!DH1:DH77,MATCH($C$5,'Maxi-Vac_Datasheet'!$E$1:$E$77,0))","v":0},{"$f":"INDEX('Maxi-Vac_Datasheet'!DI1:DI77,MATCH($C$5,'Maxi-Vac_Datasheet'!$E$1:$E$77,0))","v":0},{"$f":"INDEX('Maxi-Vac_Datasheet'!DJ1:DJ77,MATCH($C$5,'Maxi-Vac_Datasheet'!$E$1:$E$77,0))","v":0},{"$f":"INDEX('Maxi-Vac_Datasheet'!DK1:DK77,MATCH($C$5,'Maxi-Vac_Datasheet'!$E$1:$E$77,0))","v":0}]
[null,"Referral",0,0,-1]
[null,"Medical screening",0,-8,0]
[null,"Physician evaluation",-7,0,0]
[null,"Vaccination",0,6,0]
[null,"Witness",0,6,0]
[null,"Review/Exit",0,-5,0]
[]
[]
[]
[]
[null,"Average Time Spent"]
[null,"Station Description","Average time",null,null,null,null,"Station Description","Triage","Orientation","Medical froms help","Referral","Medical screening","Physician evaluation","Vaccination","Witness","Review/Exit"]
[null,"Triage",{"$f":"TRANSPOSE(I76:Q76)","v":4.2709999999999999},null,null,null,null,"Average time",{"$f":"INDEX('Maxi-Vac_Datasheet'!DL1:DL77,MATCH($C$5,'Maxi-Vac_Datasheet'!$E$1:$E$77,0))","v":4.2709999999999999},{"$f":"INDEX('Maxi-Vac_Datasheet'!DM1:DM77,MATCH($C$5,'Maxi-Vac_Datasheet'!$E$1:$E$77,0))","v":33.972000000000001},{"$f":"INDEX('Maxi-Vac_Datasheet'!DN1:DN77,MATCH($C$5,'Maxi-Vac_Datasheet'!$E$1:$E$77,0))","v":3.9089999999999998},{"$f":"INDEX('Maxi-Vac_Datasheet'!DO1:DO77,MATCH($C$5,'Maxi-Vac_Datasheet'!$E$1:$E$77,0))","v":3.8069999999999999},{"$f":"INDEX('Maxi-Vac_Datasheet'!DP1:DP77,MATCH($C$5,'Maxi-Vac_Datasheet'!$E$1:$E$77,0))","v":37.683},{"$f":"INDEX('Maxi-Vac_Datasheet'!DQ1:DQ77,MATCH($C$5,'Maxi-Vac_Datasheet'!$E$1:$E$77,0))","v":36.573},{"$f":"INDEX('Maxi-Vac_Datasheet'!DR1:DR77,MATCH($C$5,'Maxi-Vac_Datasheet'!$E$1:$E$77,0))","v":4.2850000000000001},{"$f":"INDEX('Maxi-Vac_Datasheet'!DS1:DS77,MATCH($C$5,'Maxi-Vac_Datasheet'!$E$1:$E$77,0))","v":4.2850000000000001},{"$f":"INDEX('Maxi-Vac_Datasheet'!DT1:DT77,MATCH($C$5,'Maxi-Vac_Datasheet'!$E$1:$E$77,0))","v":3.944}]
[null,"Orientation",33.972000000000001]
[null,"Medical froms help",3.9089999999999998]
[null,"Referral",3.8069999999999999]
[null,"Medical screening",37.683]
[null,"Physician evaluation",36.573]
[null,"Vaccination",4.2850000000000001]
[null,"Witness",4.2850000000000001]
[null,"Review/Exit",3.944]

{"sheet":"Maxi-Vac_Datasheet","index":12,"n_rows":77,"n_cols":125,"rows_kept":77,"cut":false,"hidden":false,"merged":[]}
["INPUT DATA",null,null,null,null,"  RESULTS     RESULTS    RESULTS   RESULTS   RESULTS   RESULTS   RESULTS   RESULTS   RESULTS   RESULTS     RESULTS    RESULTS   RESULTS   RESULTS   RESULTS   RESULTS   RESULTS   RESULTS   RESULTS     RESULTS    RESULTS   RESULTS   RESULTS   RESULTS   RESULTS   RESULTS   RESULTS  RESULTS     RESULTS    RESULTS   RESULTS   RESULTS   RESULTS   RESULTS   RESULTS   RESULTS  RESULTS     RESULTS    RESULTS   RESULTS   RESULTS   RESULTS   RESULTS   RESULTS   RESULTS  "]
[null,null,null,null,null,null,null,"PHYSICIANS",null,null,null,null,null,null,null,null,"NURSES",null,null,null,null,null,null,null,null,"OTHER",null,null,null,null,null,null,null,null,"PHYSICIANS",null,null,null,null,null,null,null,null,"NURSES",null,null,null,null,null,null,null,null,"OTHER",null,null,null,null,null,null,null,null,"PHYSICIANS",null,null,null,null,null,null,null,null,"NURSES",null,null,null,null,null,null,null,null,"OTHER",null,null,null,null,null,null,null,null,"PHYSICIANS",null,null,null,null,null,null,null,null,"NURSES",null,null,null,null,null,null,null,null,"OTHER"]
["CONSTRAINTS",null,null,null,null,null,null,"Output (# at Station)",null,null,null,null,null,null,null,null,"Output (# at Station)",null,null,null,null,null,null,null,null,"Output (# at Station)",null,null,null,null,null,null,null,null,"Output (% Time Busy)",null,null,null,null,null,null,null,null,"Output (% Time Busy)",null,null,null,null,null,null,null,null,"Output (% Time Busy)",null,null,null,null,null,null,null,null,"Impact of Adding One Resource                                 (Change in Number of People Vaccinated)",null,null,null,null,null,null,null,null,"Impact of Adding One Resource                                 (Change in Number of People Vaccinated)",null,null,null,null,null,null,null,null,"Impact of Adding One Resource                                (Change in Number of People Vaccinated)",null,null,null,null,null,null,null,null,"Impact of Removing One Resource                                 (Change in Number of People Vaccinated)",null,null,null,null,null,null,null,null,"Impact of Removing One Resource                                 (Change in Number of People Vaccinated)",null,null,null,null,null,null,null,null,"Impact of Removing One Resource                           (Change in Number of People Vaccinated)",null,null,null,null,null,null,null,null,"Average Time Families Spend At Each Station   (Minutes)"]
["Personnel Type and Orientation Room Size",null,null,null,null,"MAIN"]
["Physican","Medical Prof","Other","Or room","Unique Identifier","People Vaccinated","Total Staff Used","Triage Personnel","Orientation Personnel","Medical Form Helper","Referral Personnel","Medical Screener","Physician Evaluator","Vaccinator","Witnesses","Exit Review Personnel","Triage Personnel","Orientation Personnel","Medical Form Helper","Referral Personnel","Medical Screener","Physician Evaluator","Vaccinator","Witnesses","Exit Review Personnel","Triage Personnel","Orientation Personnel","Medical Form Helper","Referral Personnel","Medical Screener","Physician Evaluator","Vaccinator","Witnesses","Exit Review Personnel","Triage Personnel","Orientation Personnel","Medical Form Helper","Referral Personnel","Medical Screener","Physician Evaluator","Vaccinator","Witnesses","Exit Review Personnel","Triage Personnel","Orientation Personnel","Medical Form Helper","Referral Personnel","Medical Screener","Physician Evaluator","Vaccinator","Witnesses","Exit Review Personnel","Triage Personel","Orientation Personnel","Medical Form Helper","Referral Personnel","Medical Screener","Physician Evaluator","Vaccinator","Witnesses","Exit Review Personnel","Triage Personnel","Orientation Personnel","Medical Form Helper","Referral Personnel","Medical Screener","Physician Evaluator","Vaccinator","Witnesses","Exit Review Personnel","Triage Personnel","Orientation Personnel","Medical Form Helper","Referral Personnel","Medical Screener","Physician Evaluator","Vaccinator","Witnesses","Exit Review Personnel","Triage Personnel","Orientation Personnel","Medical Form Helper","Referral Personnel","Medical Screener","Physician Evaluator","Vaccinator","Witnesses","Exit Review Personnel","Triage Personnel","Orientation Personnel","Medical Form Helper","Referral Personnel","Medical Screener","Physician Evaluator","Vaccinator","Witnesses","Exit Review Personnel","Triage Personnel","Orientation Personnel","Medical Form Helper","Referral Personnel","Medical Screener","Physician Evaluator","Vaccinator","Witnesses","Exit Review Personnel","Triage Personnel","Orientation Personnel","Medical Form Helper","Referral Personnel","Medical Screener","Physician Evaluator","Vaccinator","Witnesses","Exit Review Personnel","Triage ","Orientation ","Medical Forms","Referral ","Medical Screening","Physician Evaluation","Vaccinator","Witnesses","Exit Review Personnel"]
[1,15,5,30,{"$f":"VALUE(_xlfn.CONCAT(A6,B6,C6,D6))","v":115530},3310,21,0,0,0,0,0,1,0,0,0,3,0,0,0,2,0,4,4,2,0,2,1,2,0,0,0,0,0,0,0,0,0,0,20.6,0,0,0,99.6,0,0,0,93,0,67.2,67.2,51.9,0,95,4.7,65,0,0,0,0,0,0,0,0,0,0,-4,0,0,0,124,0,0,0,47,0,1,1,-13,0,1,-2,1,0,0,0,0,0,0,0,0,0,0,"na",0,0,0,-1059,0,0,0,-131,0,-16,-16,-142,0,-1555,"na",-804,0,0,0,0,0,4.2930000000000001,34.277000000000001,3.8290000000000002,3.891,166.34800000000001,41.780999999999999,4.6609999999999996,4.6609999999999996,3.8239999999999998,{"$f":"0.1*F6","v":331}]
[3,15,5,30,{"$f":"VALUE(_xlfn.CONCAT(A7,B7,C7,D7))","v":315530},3310,21,0,0,0,0,0,1,0,0,0,3,0,0,0,2,0,4,4,2,0,2,1,2,0,0,0,0,0,0,0,0,0,0,20.6,0,0,0,99.6,0,0,0,93,0,67.2,67.2,51.9,0,95,4.7,65,0,0,0,0,0,0,0,0,0,0,-4,0,0,0,124,0,0,0,47,0,1,1,-13,0,1,-2,1,0,0,0,0,0,0,0,0,0,0,"na",0,0,0,-1059,0,0,0,-131,0,-16,-16,-142,0,-1555,"na",-804,0,0,0,0,0,4.2930000000000001,34.277000000000001,3.8290000000000002,3.891,166.34800000000001,41.780999999999999,4.6609999999999996,4.6609999999999996,3.8239999999999998,{"$f":"0.1*F7","v":331}]
[5,15,5,30,515530,3294,19,0,0,0,0,0,1,0,0,0,3,0,0,0,2,0,3,3,2,0,2,1,2,0,0,0,0,0,0,0,0,0,0,18.600000000000001,0,0,0,99.6,0,0,0,92.7,0,89.1,89.1,51.8,0,95,4.7,64.900000000000006,0,0,0,0,0,0,0,0,0,0,4,0,0,0,127,0,0,0,68,0,0,0,10,0,9,4,5,0,0,0,0,0,0,0,0,0,0,"na",0,0,0,-1050,0,0,0,-112,0,-907,-907,-121,0,-1536,"na",-790,0,0,0,0,0,4.2729999999999997,34.643999999999998,3.956,3.8290000000000002,170.56,38.853000000000002,7.3230000000000004,7.3230000000000004,3.669,329.40000000000003]
[9,15,5,30,915530,3304,20,0,0,0,0,0,1,0,0,0,3,0,0,0,2,0,3,3,3,0,2,1,2,0,0,0,0,0,0,0,0,0,0,16.2,0,0,0,99.6,0,0,0,93.3,0,89.3,89.3,34.9,0,95,4.5999999999999996,65,0,0,0,0,0,0,0,0,0,0,-8,0,0,0,121,0,0,0,54,0,0,0,-4,0,6,-13,-9,0,0,0,0,0,0,0,0,0,0,"na",0,0,0,-1061,0,0,0,-126,0,-920,-920,-10,0,-1546,"na",-798,0,0,0,0,0,4.2889999999999997,34.216999999999999,4.016,3.7650000000000001,152.76400000000001,40.264000000000003,7.3419999999999996,7.3419999999999996,3.3580000000000001,330.40000000000003]
[1,30,5,30,130530,3363,34,0,0,0,0,0,1,0,0,0,3,0,0,0,6,0,6,6,7,0,2,1,2,0,0,0,0,0,0,0,0,0,0,22.8,0,0,0,99.6,0,0,0,38.6,0,45.5,45.5,15.1,0,94.5,5,64.8,0,0,0,0,0,0,0,0,0,0,4,0,0,0,145,0,0,0,17,0,8,8,0,0,12,-1,9,0,0,0,0,0,0,0,0,0,0,"na",0,0,0,-1104,0,0,0,5,0,9,9,1,0,-1610,"na",-844,0,0,0,0,0,4.28,33.561,3.9550000000000001,3.6659999999999999,36.869999999999997,43.396999999999998,4.2830000000000004,4.2830000000000004,3.335,336.3]
[3,30,5,30,330530,3370,28,0,0,0,0,0,2,0,0,0,3,0,0,0,3,0,5,5,5,0,2,1,2,0,0,0,0,0,0,0,0,0,0,11.4,0,0,0,99.6,0,0,0,75.2,0,54.8,54.8,21.4,0,94.9,4.8,65.099999999999994,0,0,0,0,0,0,0,0,0,0,0,0,0,0,138,0,0,0,-7,0,7,7,-3,0,7,-3,-12,0,0,0,0,0,0,0,0,0,0,"na",0,0,0,-1115,0,0,0,-54,0,-5,-5,-1,0,-1619,"na",-858,0,0,0,0,0,4.2880000000000003,33.752000000000002,3.9279999999999999,3.7749999999999999,52.606999999999999,35.143000000000001,4.375,4.375,3.3340000000000001,337]
[5,30,5,30,530530,3362,25,0,0,0,0,0,2,0,0,0,3,0,0,0,3,0,5,5,2,0,2,1,2,0,0,0,0,0,0,0,0,0,0,12,0,0,0,99.7,0,0,0,78.400000000000006,0,54.7,54.7,53,0,94.8,4.8,65,0,0,0,0,0,0,0,0,0,0,8,0,0,0,146,0,0,0,1,0,15,15,5,0,15,5,-4,0,0,0,0,0,0,0,0,0,0,"na",0,0,0,-1107,0,0,0,-46,0,3,3,7,0,-1611,"na",-850,0,0,0,0,0,4.2839999999999998,33.771000000000001,4.0039999999999996,3.7320000000000002,58.017000000000003,37.203000000000003,4.3470000000000004,4.3470000000000004,3.9129999999999998,336.20000000000005]
[9,30,5,30,930530,3362,25,0,0,0,0,0,2,0,0,0,3,0,0,0,3,0,5,5,2,0,2,1,2,0,0,0,0,0,0,0,0,0,0,12,0,0,0,99.7,0,0,0,78.400000000000006,0,54.7,54.7,53,0,94.8,4.8,65,0,0,0,0,0,0,0,0,0,0,8,0,0,0,146,0,0,0,1,0,15,15,5,0,15,5,-4,0,0,0,0,0,0,0,0,0,0,"na",0,0,0,-1107,0,0,0,-46,0,3,3,7,0,-1611,"na",-850,0,0,0,0,0,4.2839999999999998,33.771000000000001,4.0039999999999996,3.7320000000000002,58.017000000000003,37.203000000000003,4.3470000000000004,4.3470000000000004,3.9129999999999998,336.20000000000005]
[1,45,5,30,145530,3364,33,0,0,0,0,0,1,0,0,0,3,0,0,0,6,0,6,6,6,0,2,1,2,0,0,0,0,0,0,0,0,0,0,23,0,0,0,99.6,0,0,0,38.9,0,45.6,45.6,17.600000000000001,0,94.6,5,64.900000000000006,0,0,0,0,0,0,0,0,0,0,3,0,0,0,143,0,0,0,15,0,8,8,-1,0,7,-1,9,0,0,0,0,0,0,0,0,0,0,"na",0,0,0,-1105,0,0,0,6,0,8,8,1,0,-1611,"na",-845,0,0,0,0,0,4.2770000000000001,33.701999999999998,4.0110000000000001,3.6709999999999998,36.868000000000002,43.325000000000003,4.2809999999999997,4.2809999999999997,3.9740000000000002,336.40000000000003]
[3,45,5,30,345530,3375,29,0,0,0,0,0,2,0,0,0,3,0,0,0,5,0,5,5,4,0,2,1,2,0,0,0,0,0,0,0,0,0,0,10.5,0,0,0,99.6,0,0,0,45.5,0,54.8,54.8,26.8,0,95.4,4.7,65.099999999999994,0,0,0,0,0,0,0,0,0,0,0,0,0,0,130,0,0,0,-2,0,-14,-14,0,0,10,2,0,0,0,0,0,0,0,0,0,0,0,-6,0,0,0,-1117,0,0,0,0,0,-12,-12,-8,0,-1619,"na",-858,0,0,0,0,0,4.2590000000000003,34.683,3.8889999999999998,3.89,36.859000000000002,37.298999999999999,4.3440000000000003,4.3440000000000003,3.343,337.5]
[5,45,5,30,545530,3369,29,0,0,0,0,0,2,0,0,0,3,0,0,0,5,0,6,6,2,0,2,1,2,0,0,0,0,0,0,0,0,0,0,11.4,0,0,0,99.7,0,0,0,47.3,0,45.7,45.7,53,0,94.8,4.5999999999999996,64.900000000000006,0,0,0,0,0,0,0,0,0,0,0,0,0,0,130,0,0,0,-2,0,-14,-14,0,0,10,2,0,0,0,0,0,0,0,0,0,0,0,-6,0,0,0,-1117,0,0,0,0,0,-12,-12,-8,0,-1619,"na",-852,0,0,0,0,0,4.2590000000000003,34.683,3.8889999999999998,3.89,36.859000000000002,37.298999999999999,4.3440000000000003,4.3440000000000003,3.343,336.90000000000003]
[9,45,5,30,945530,3369,29,0,0,0,0,0,2,0,0,0,3,0,0,0,5,0,6,6,2,0,2,1,2,0,0,0,0,0,0,0,0,0,0,11.4,0,0,0,99.7,0,0,0,47.3,0,45.7,45.7,53,0,94.8,4.5999999999999996,64.900000000000006,0,0,0,0,0,0,0,0,0,0,3,0,0,0,141,0,0,0,-2,0,1,1,-4,0,8,-2,-1,0,0,0,0,0,0,0,0,0,0,-7,0,0,0,-1110,0,0,0,-8,0,6,6,-5,0,-1614,"na",-1,0,0,0,0,0,4.2709999999999999,33.972000000000001,3.9089999999999998,3.8069999999999999,37.683,36.573,4.2850000000000001,4.2850000000000001,3.944,336.90000000000003]
[1,15,10,30,1151030,4209,26,0,0,0,0,0,1,0,0,0,4,0,0,0,1,0,4,4,2,0,3,3,4,0,0,0,0,0,0,0,0,0,0,9.5,0,0,0,99.5,0,0,0,96.6,0,85.6,85.6,66.2,0,84.8,2.1,43.6,0,0,0,0,0,0,0,0,0,0,-4,0,0,0,555,0,0,0,122,0,0,0,-14,0,-20,0,-4,0,0,0,0,0,0,0,0,0,0,"na",0,0,0,-1022,0,0,0,"na",0,-623,-623,-594,0,-897,-2,-7,0,0,0,0,0,4.2690000000000001,29.533999999999999,3.6930000000000001,2.2010000000000001,495.13200000000001,38.503999999999998,6.319,6.319,4.266,420.90000000000003]
[3,15,10,30,3151030,4201,25,0,0,0,0,0,1,0,0,0,4,0,0,0,1,0,4,4,2,0,3,1,5,0,0,0,0,0,0,0,0,0,0,9.4,0,0,0,99.5,0,0,0,96.7,0,85.6,85.6,65.7,0,84.6,6.4,34.799999999999997,0,0,0,0,0,0,0,0,0,0,3,0,0,0,554,0,0,0,123,0,0,0,-5,0,-9,2,-10,0,0,0,0,0,0,0,0,0,0,"na",0,0,0,-1007,0,0,0,"na",0,-625,-625,-554,0,-896,"na",4,0,0,0,0,0,4.2779999999999996,29.492999999999999,4.0389999999999997,2.0739999999999998,495.42500000000001,34.606000000000002,6.468,6.468,4.26,420.1]
[5,15,10,30,5151030,4201,25,0,0,0,0,0,1,0,0,0,4,0,0,0,1,0,4,4,2,0,3,1,5,0,0,0,0,0,0,0,0,0,0,9.4,0,0,0,99.5,0,0,0,96.7,0,85.6,85.6,65.7,0,84.6,6.4,34.799999999999997,0,0,0,0,0,0,0,0,0,0,3,0,0,0,554,0,0,0,123,0,0,0,-5,0,-9,2,-10,0,0,0,0,0,0,0,0,0,0,"na",0,0,0,-1007,0,0,0,"na",0,-625,-625,-554,0,-896,"na",4,0,0,0,0,0,4.2779999999999996,29.492999999999999,4.0389999999999997,2.0739999999999998,495.42500000000001,34.606000000000002,6.468,6.468,4.26,420.1]
[9,15,10,30,9151030,4209,25,0,0,0,0,0,3,0,0,0,4,0,0,0,1,0,4,4,2,0,3,1,3,0,0,0,0,0,0,0,0,0,0,3.1,0,0,0,99.5,0,0,0,96.6,0,85.5,85.5,65.5,0,84.7,6.3,57.9,0,0,0,0,0,0,0,0,0,0,0,0,0,0,535,0,0,0,121,0,0,0,-16,0,-13,-8,-2,0,0,0,0,0,0,0,0,0,0,"na",0,0,0,-1025,0,0,0,"na",0,-635,-635,-568,0,-909,"na",-10,0,0,0,0,0,4.2779999999999996,29.53,3.992,2.6,483.33499999999998,36.997999999999998,6.1280000000000001,6.1280000000000001,4.2160000000000002,420.90000000000003]
[1,30,10,30,1301030,8029,39,0,0,0,0,0,1,0,0,0,8,0,0,0,1,0,8,8,3,0,5,1,4,0,0,0,0,0,0,0,0,0,0,10.9,0,0,0,98.9,0,0,0,97,0,81.599999999999994,81.599999999999994,84.8,0,98.6,12.5,84.3,0,0,0,0,0,0,0,0,0,0,1,0,0,0,11,0,0,0,135,0,16,16,4,0,195,16,0,0,0,0,0,0,0,0,0,0,0,"na",0,0,0,-786,0,0,0,"na",0,-4,-4,-886,0,-1539,"na",-1051,0,0,0,0,0,4.2759999999999998,44.963000000000001,4.218,4.125,598.471,38.814,4.6100000000000003,4.6100000000000003,5.75,802.90000000000009]
[3,30,10,30,3301030,8245,40,0,0,0,0,0,2,0,0,0,8,0,0,0,3,0,7,7,3,0,5,1,4,0,0,0,0,0,0,0,0,0,0,13.9,0,0,0,98.9,0,0,0,96.5,0,95.7,95.7,86.6,0,98.6,11.9,84.3,0,0,0,0,0,0,0,0,0,0,5,0,0,0,29,0,0,0,63,0,67,67,10,0,77,-4,3,0,0,0,0,0,0,0,0,0,0,11,0,0,0,-749,0,0,0,-86,0,-1062,-1062,-1044,0,-1481,0,-999,0,0,0,0,0,4.2779999999999996,44.868000000000002,4.077,4.1180000000000003,378.42599999999999,37.185000000000002,10.327999999999999,10.327999999999999,5.8550000000000004,824.5]
[5,30,10,30,5301030,8256,39,0,0,0,0,0,1,0,0,0,8,0,0,0,3,0,7,7,3,0,5,1,4,0,0,0,0,0,0,0,0,0,0,27.4,0,0,0,98.9,0,0,0,96.5,0,95.9,95.9,86.7,0,98.6,12.2,84.5,0,0,0,0,0,0,0,0,0,0,-11,0,0,0,23,0,0,0,42,0,51,51,5,0,67,-9,-10,0,0,0,0,0,0,0,0,0,0,"na",0,0,0,-753,0,0,0,-94,0,-1077,-1077,-1036,0,-1499,"na",-3270,0,0,0,0,0,4.2779999999999996,45.088999999999999,4.1360000000000001,4.1459999999999999,376.61700000000002,43.695,10.343,10.343,6.0410000000000004,825.6]
[9,30,10,30,9301030,8256,39,0,0,0,0,0,1,0,0,0,8,0,0,0,3,0,7,7,3,0,5,1,4,0,0,0,0,0,0,0,0,0,0,27.4,0,0,0,98.9,0,0,0,96.5,0,95.9,95.9,86.7,0,98.6,12.2,84.5,0,0,0,0,0,0,0,0,0,0,-11,0,0,0,23,0,0,0,42,0,51,51,5,0,67,-9,-10,0,0,0,0,0,0,0,0,0,0,"na",0,0,0,-753,0,0,0,-94,0,-1077,-1077,-1036,0,-1499,"na",-3270,0,0,0,0,0,4.2779999999999996,45.088999999999999,4.1360000000000001,4.1459999999999999,376.61700000000002,43.695,10.343,10.343,6.0410000000000004,825.6]
[1,45,10,30,1451030,8732,56,0,0,0,0,0,1,0,0,0,8,0,0,0,7,0,13,13,4,0,5,1,4,0,0,0,0,0,0,0,0,0,0,55.7,0,0,0,98.9,0,0,0,85.4,0,54.6,54.6,68.400000000000006,0,98.6,11.7,84.3,0,0,0,0,0,0,0,0,0,0,11,0,0,0,26,0,0,0,19,0,8,8,4,0,224,-6,2,0,0,0,0,0,0,0,0,0,0,"na",0,0,0,-895,0,0,0,-43,0,-1,-1,-10,0,-1707,"na",-1149,0,0,0,0,0,4.2779999999999996,44.676000000000002,4.0999999999999996,4.109,51.070999999999998,62.311,4.2770000000000001,4.2770000000000001,3.843,873.2]
[3,45,10,30,3451030,8746,53,0,0,0,0,0,2,0,0,0,8,0,0,0,7,0,10,10,6,0,5,1,4,0,0,0,0,0,0,0,0,0,0,28.1,0,0,0,98.9,0,0,0,85,0,71.099999999999994,71.099999999999994,46,0,98.6,12.6,84.4,0,0,0,0,0,0,0,0,0,0,2,0,0,0,27,0,0,0,-4,0,10,10,-14,0,207,-17,14,0,0,0,0,0,0,0,0,0,0,-4,0,0,0,-897,0,0,0,-42,0,-5,-5,-26,0,-1721,"na",-1166,0,0,0,0,0,4.2839999999999998,43.616,4.2030000000000003,4.1539999999999999,48.984000000000002,39.488999999999997,4.3529999999999998,4.3529999999999998,3.3650000000000002,874.6]
[5,45,10,30,5451030,8750,49,0,0,0,0,0,3,0,0,0,8,0,0,0,8,0,8,8,4,0,5,1,4,0,0,0,0,0,0,0,0,0,0,19.100000000000001,0,0,0,98.9,0,0,0,76.2,0,79.099999999999994,79.099999999999994,69,0,98.6,12.2,84.3,0,0,0,0,0,0,0,0,0,0,-1,0,0,0,12,0,0,0,8,0,-8,-8,4,0,196,-5,8,0,0,0,0,0,0,0,0,0,0,-3,0,0,0,-905,0,0,0,-11,0,-6,-6,-19,0,-1715,"na",-1158,0,0,0,0,0,4.2869999999999999,44.371000000000002,4.1230000000000002,4.0720000000000001,41.838000000000001,36.64,4.5350000000000001,4.5350000000000001,3.8069999999999999,875]
[9,45,10,30,9451030,8750,49,0,0,0,0,0,3,0,0,0,8,0,0,0,8,0,8,8,4,0,5,1,4,0,0,0,0,0,0,0,0,0,0,19.100000000000001,0,0,0,98.9,0,0,0,76.2,0,79.099999999999994,79.099999999999994,69,0,98.6,12.2,84.3,0,0,0,0,0,0,0,0,0,0,-1,0,0,0,12,0,0,0,8,0,-8,-8,4,0,196,-5,8,0,0,0,0,0,0,0,0,0,0,-3,0,0,0,-905,0,0,0,-11,0,-6,-6,-19,0,-1715,"na",-1158,0,0,0,0,0,4.2869999999999999,44.371000000000002,4.1230000000000002,4.0720000000000001,41.838000000000001,36.64,4.5350000000000001,4.5350000000000001,3.8069999999999999,875]
[1,15,15,30,1151530,4209,26,0,0,0,0,0,1,0,0,0,4,0,0,0,1,0,4,4,2,0,3,3,4,0,0,0,0,0,0,0,0,0,0,9.5,0,0,0,99.5,0,0,0,96.6,0,85.6,85.6,66.2,0,84.8,2.1,43.6,0,0,0,0,0,0,0,0,0,0,-4,0,0,0,555,0,0,0,122,0,0,0,-14,0,20,0,-4,0,0,0,0,0,0,0,0,0,0,"na",0,0,0,-1022,0,0,0,"na",0,-623,-623,-594,0,-897,2,-7,0,0,0,0,0,4.2690000000000001,29.533999999999999,3.6930000000000001,2.2010000000000001,495.13200000000001,38.503999999999998,6.319,6.319,4.266,420.90000000000003]
[3,15,15,30,3151530,4205,27,0,0,0,0,0,2,0,0,0,4,0,0,0,1,0,4,4,2,0,3,3,4,0,0,0,0,0,0,0,0,0,0,4.9000000000000004,0,0,0,99.5,0,0,0,96.6,0,85.6,85.6,66.2,0,84.8,2.2000000000000002,43.6,0,0,0,0,0,0,0,0,0,0,0,0,0,0,558,0,0,0,123,0,0,0,-8,0,-15,0,7,0,0,0,0,0,0,0,0,0,0,4,0,0,0,-1019,0,0,0,"na",0,-618,-618,-593,0,-892,2,-5,0,0,0,0,0,4.2679999999999998,29.529,3.74,2.1970000000000001,493.77300000000002,37.923999999999999,6.3460000000000001,6.3460000000000001,4.2699999999999996,420.5]
[5,15,15,30,5151530,4216,32,0,0,0,0,0,2,0,0,0,4,0,0,0,1,0,4,4,2,0,3,5,7,0,0,0,0,0,0,0,0,0,0,4.8,0,0,0,99.5,0,0,0,96.6,0,85.7,85.7,66.900000000000006,0,84.5,1.2,24.9,0,0,0,0,0,0,0,0,0,0,0,0,0,0,537,0,0,0,123,0,0,0,-23,0,-20,0,-10,0,0,0,0,0,0,0,0,0,0,-4,0,0,0,-1026,0,0,0,"na",0,-630,-630,-592,0,-917,0,-27,0,0,0,0,0,4.2789999999999999,29.449000000000002,3.6859999999999999,2.024,485.63,33.950000000000003,6.4550000000000001,6.4550000000000001,4.3250000000000002,421.6]
[9,15,15,30,9151530,4212,31,0,0,0,0,0,1,0,0,0,4,0,0,0,1,0,4,4,2,0,3,5,7,0,0,0,0,0,0,0,0,0,0,9.1999999999999993,0,0,0,99.5,0,0,0,96.6,0,85.6,85.6,66.8,0,84.7,1.3,24.9,0,0,0,0,0,0,0,0,0,0,4,0,0,0,541,0,0,0,124,0,-16,-16,-21,0,-20,0,-8,0,0,0,0,0,0,0,0,0,0,4,0,0,0,-1024,0,0,0,"na",0,-624,-624,-586,0,-908,0,-22,0,0,0,0,0,4.2750000000000004,29.469000000000001,3.714,2.0230000000000001,488.24,33.905000000000001,6.4379999999999997,6.4379999999999997,4.306,421.20000000000005]
[1,30,15,30,1301530,8045,41,0,0,0,0,0,1,0,0,0,8,0,0,0,1,0,9,9,3,0,5,1,4,0,0,0,0,0,0,0,0,0,0,9.1999999999999993,0,0,0,98.9,0,0,0,97,0,72.7,72.7,85.1,0,98.6,12.2,84.4,0,0,0,0,0,0,0,0,0,0,-5,0,0,0,16,0,0,0,126,0,10,10,-14,0,189,0,-7,0,0,0,0,0,0,0,0,0,0,"na",0,0,0,-808,0,0,0,"na",0,-16,-16,-946,0,-1556,"na",-1045,0,0,0,0,0,4.2809999999999997,43.914000000000001,4.149,4.117,592.48400000000004,35.390999999999998,4.37,4.37,5.8630000000000004,804.5]
[3,30,15,30,3301530,8312,42,0,0,0,0,0,2,0,0,0,8,0,0,0,3,0,8,8,3,0,5,1,4,0,0,0,0,0,0,0,0,0,0,15.1,0,0,0,98.9,0,0,0,96.5,0,84.5,84.5,86.9,0,98.6,12,84.4,0,0,0,0,0,0,0,0,0,0,-10,0,0,0,16,0,0,0,107,0,-23,-23,1,0,165,0,11,0,0,0,0,0,0,0,0,0,0,-5,0,0,0,-827,0,0,0,-145,0,-67,-67,-1090,0,-1547,"na",-1066,0,0,0,0,0,4.2809999999999997,43.118000000000002,4.1289999999999996,4.07,382.43299999999999,37.805,4.79,4.79,6.3460000000000001,831.2]
[5,30,15,30,5301530,8250,41,0,0,0,0,0,3,0,0,0,8,0,0,0,3,0,7,7,3,0,5,1,4,0,0,0,0,0,0,0,0,0,0,9.4,0,0,0,98.9,0,0,0,96.5,0,95.7,95.7,86.6,0,98.6,12,84.4,0,0,0,0,0,0,0,0,0,0,1,0,0,0,19,0,0,0,50,0,52,52,4,0,68,0,1,0,0,0,0,0,0,0,0,0,0,-5,0,0,0,-750,0,0,0,-89,0,-1067,-1067,-1054,0,-1485,"na",-1006,0,0,0,0,0,4.2789999999999999,44.707000000000001,4.0750000000000002,4.117,378.25099999999998,36.813000000000002,10.519,10.519,5.8819999999999997,825]
[9,30,15,30,9301530,8307,41,0,0,0,0,0,1,0,0,0,8,0,0,0,3,0,8,8,3,0,5,1,4,0,0,0,0,0,0,0,0,0,0,26.7,0,0,0,98.9,0,0,0,96.5,0,84.3,84.3,87.9,0,98.6,12.3,84.5,0,0,0,0,0,0,0,0,0,0,5,0,0,0,6,0,0,0,128,0,-20,-20,0,0,187,0,3,0,0,0,0,0,0,0,0,0,0,"na",0,0,0,-832,0,0,0,-143,0,-51,-51,-1068,0,-1550,"na",-1060,0,0,0,0,0,4.2759999999999998,43.503,4.1059999999999999,4.09,385.25,41.13,4.782,4.782,6.6020000000000003,830.7]
[1,45,15,30,1451530,8732,56,0,0,0,0,0,1,0,0,0,8,0,0,0,7,0,13,13,4,0,5,1,4,0,0,0,0,0,0,0,0,0,0,55.7,0,0,0,98.9,0,0,0,85.4,0,54.6,54.6,68.400000000000006,0,98.6,11.7,84.3,0,0,0,0,0,0,0,0,0,0,11,0,0,0,26,0,0,0,19,0,8,8,4,0,224,-6,2,0,0,0,0,0,0,0,0,0,0,"na",0,0,0,-895,0,0,0,-43,0,-1,-1,-10,0,-1707,"na",-1149,0,0,0,0,0,4.2779999999999996,44.676000000000002,4.0999999999999996,4.109,51.070999999999998,62.311,4.2770000000000001,4.2770000000000001,3.843,873.2]
[3,45,15,30,3451530,8757,55,0,0,0,0,0,2,0,0,0,8,0,0,0,11,0,8,8,7,0,5,1,5,0,0,0,0,0,0,0,0,0,0,28.3,0,0,0,98.9,0,0,0,54.8,0,89.1,89.1,39.700000000000003,0,98.6,12,67.5,0,0,0,0,0,0,0,0,0,0,-2,0,0,0,13,0,0,0,-8,0,5,5,-16,0,203,-2,-3,0,0,0,0,0,0,0,0,0,0,-3,0,0,0,-905,0,0,0,-11,0,-399,-399,-4,0,-1718,"na",-17,0,0,0,0,0,4.2770000000000001,43.622,4.1334,2.944,36.886000000000003,39.335999999999999,5.7249999999999996,5.7249999999999996,3.351,875.7]
[5,45,15,30,5451530,8757,55,0,0,0,0,0,2,0,0,0,8,0,0,0,11,0,8,8,7,0,5,1,5,0,0,0,0,0,0,0,0,0,0,28.3,0,0,0,98.9,0,0,0,54.8,0,89.1,89.1,39.700000000000003,0,98.6,12,67.5,0,0,0,0,0,0,0,0,0,0,-2,0,0,0,13,0,0,0,-8,0,5,5,-16,0,203,-2,-3,0,0,0,0,0,0,0,0,0,0,-3,0,0,0,-905,0,0,0,-11,0,-399,-399,-4,0,-1718,"na",-17,0,0,0,0,0,4.2770000000000001,43.622,4.1334,2.944,36.886000000000003,39.335999999999999,5.7249999999999996,5.7249999999999996,3.351,875.7]
[9,45,15,30,9451530,8767,56,0,0,0,0,0,2,0,0,0,8,0,0,0,11,0,9,9,6,0,5,1,5,0,0,0,0,0,0,0,0,0,0,30.8,0,0,0,98.9,0,0,0,54.8,0,79.099999999999994,79.099999999999994,46.1,0,98.6,11.9,67.7,0,0,0,0,0,0,0,0,0,0,3,0,0,0,21,0,0,0,6,0,-3,-3,-5,0,202,-7,-2,0,0,0,0,0,0,0,0,0,0,1,0,0,0,-906,0,0,0,0,0,-14,-14,-21,0,-1728,"na",-19,0,0,0,0,0,4.2709999999999999,43.082999999999998,4.1310000000000002,2.99,38.79,36.664000000000001,4.7690000000000001,4.7690000000000001,3.3610000000000002,876.7]
[1,15,5,75,115575,4155,21,0,0,0,0,0,1,0,0,0,4,0,0,0,1,0,4,4,2,0,2,1,2,0,0,0,0,0,0,0,0,0,0,8.1999999999999993,0,0,0,99.5,0,0,0,95.7,0,84.4,84.4,65.2,0,52.1,6.4,86.1,0,0,0,0,0,0,0,0,0,0,3,0,0,0,480,0,0,0,137,0,5,5,2,0,0,0,15,0,0,0,0,0,0,0,0,0,0,0,0,0,0,-1003,0,0,0,0,0,-613,-613,-562,0,-224,0,-1763,0,0,0,0,0,4.2759999999999998,36.329000000000001,4.399,8.5879999999999992,491.20400000000001,36.463000000000001,5.4169999999999998,5.4169999999999998,4.2990000000000004,415.5]
[3,15,5,75,315575,4158,23,0,0,0,0,0,3,0,0,0,4,0,0,0,1,0,4,4,2,0,2,1,2,0,0,0,0,0,0,0,0,0,0,2.9,0,0,0,99.5,0,0,0,95.7,0,84.5,84.5,65,0,52.2,6.4,86.1,0,0,0,0,0,0,0,0,0,0,0,0,0,0,481,0,0,0,139,0,-3,-3,-2,0,0,-2,16,0,0,0,0,0,0,0,0,0,0,0,0,0,0,-1006,0,0,0,0,0,-618,-618,-562,0,-226,0,-1767,0,0,0,0,0,4.2729999999999997,36.328000000000003,4.3760000000000003,8.5909999999999993,491.91399999999999,36.213999999999999,5.4109999999999996,5.4109999999999996,4.3,415.8]
[5,15,5,75,515575,4158,25,0,0,0,0,0,5,0,0,0,4,0,0,0,1,0,4,4,2,0,2,1,2,0,0,0,0,0,0,0,0,0,0,1.7,0,0,0,99.5,0,0,0,95.7,0,84.5,84.5,65,0,52.2,6.4,86.1,0,0,0,0,0,0,0,0,0,0,0,0,0,0,481,0,0,0,139,0,-3,-3,-2,0,0,-2,16,0,0,0,0,0,0,0,0,0,0,0,0,0,0,-1006,0,0,0,0,0,-618,-618,-562,0,-226,0,-1767,0,0,0,0,0,4.2729999999999997,36.328000000000003,4.3760000000000003,8.5909999999999993,491.91399999999999,36.213999999999999,5.4109999999999996,5.4109999999999996,4.3,415.8]
[9,15,5,75,915575,4158,29,0,0,0,0,0,9,0,0,0,4,0,0,0,1,0,4,4,2,0,2,1,2,0,0,0,0,0,0,0,0,0,0,1,0,0,0,99.5,0,0,0,95.7,0,84.5,84.5,65,0,52.2,6.4,86.1,0,0,0,0,0,0,0,0,0,0,0,0,0,0,481,0,0,0,139,0,-3,-3,-2,0,0,-2,16,0,0,0,0,0,0,0,0,0,0,0,0,0,0,-1006,0,0,0,0,0,-618,-618,-562,0,-226,0,-1767,0,0,0,0,0,4.2729999999999997,36.328000000000003,4.3760000000000003,8.5909999999999993,491.91399999999999,36.213999999999999,5.4109999999999996,5.4109999999999996,4.3,415.8]
[1,30,5,75,130575,4454,36,0,0,0,0,0,1,0,0,0,4,0,0,0,8,0,7,7,4,0,2,1,2,0,0,0,0,0,0,0,0,0,0,27,0,0,0,99.5,0,0,0,37.6,0,51.7,51.7,35.200000000000003,0,52.1,6.1,85.8,0,0,0,0,0,0,0,0,0,0,7,0,0,0,558,0,0,0,-2,0,7,7,5,0,0,1,12,0,0,0,0,0,0,0,0,0,0,0,0,0,0,-1122,0,0,0,1,0,16,16,3,0,-251,0,-1960,0,0,0,0,0,4.2750000000000004,36.457999999999998,4.3369999999999997,8.5180000000000007,36.216000000000001,42.837000000000003,4.2720000000000002,4.2720000000000002,3.3620000000000001,445.40000000000003]
[3,30,5,75,330575,4454,36,0,0,0,0,0,1,0,0,0,4,0,0,0,8,0,7,7,4,0,2,1,2,0,0,0,0,0,0,0,0,0,0,27,0,0,0,99.5,0,0,0,37.6,0,51.7,51.7,35.200000000000003,0,52.1,6.1,85.8,0,0,0,0,0,0,0,0,0,0,7,0,0,0,558,0,0,0,-2,0,7,7,5,0,0,1,12,0,0,0,0,0,0,0,0,0,0,0,0,0,0,-1122,0,0,0,1,0,16,16,3,0,-251,0,-1960,0,0,0,0,0,4.2750000000000004,36.457999999999998,4.3369999999999997,8.5180000000000007,36.216000000000001,42.837000000000003,4.2720000000000002,4.2720000000000002,3.3620000000000001,445.40000000000003]
[5,30,5,75,530575,4459,40,0,0,0,0,0,5,0,0,0,4,0,0,0,8,0,7,7,4,0,2,1,2,0,0,0,0,0,0,0,0,0,0,5.5,0,0,0,99.5,0,0,0,36.9,0,51.8,51.8,35.6,0,52.2,5.7,86,0,0,0,0,0,0,0,0,0,0,0,0,0,0,549,0,0,0,-7,0,-1,-1,-11,0,0,-20,24,0,0,0,0,0,0,0,0,0,0,0,0,0,0,-1134,0,0,0,-6,0,13,13,-3,0,-262,0,-1966,0,0,0,0,0,4.2850000000000001,36.405000000000001,3.9729999999999999,8.5950000000000006,36.411000000000001,36.06,4.2809999999999997,4.2809999999999997,3.3740000000000001,445.90000000000003]
[9,30,5,75,930575,4464,44,0,0,0,0,0,9,0,0,0,4,0,0,0,8,0,7,7,4,0,2,1,2,0,0,0,0,0,0,0,0,0,0,3.1,0,0,0,99.5,0,0,0,38.4,0,51.9,51.9,35.200000000000003,0,52.2,6.2,86.1,0,0,0,0,0,0,0,0,0,0,0,0,0,0,549,0,0,0,-4,0,-4,-4,-16,0,0,-11,5,0,0,0,0,0,0,0,0,0,0,-4,0,0,0,-1129,0,0,0,-10,0,1,1,-5,0,-261,0,-1968,0,0,0,0,0,4.2889999999999997,36.396000000000001,4.42,8.5679999999999996,36.512,36.061,4.2939999999999996,4.2939999999999996,3.3690000000000002,446.40000000000003]
[1,45,5,75,145575,4480,51,0,0,0,0,0,1,0,0,0,4,0,0,0,8,0,8,8,17,0,2,1,2,0,0,0,0,0,0,0,0,0,0,27.2,0,0,0,99.5,0,0,0,36.299999999999997,0,45.5,45.5,8.1,0,52.3,5.4,86.5,0,0,0,0,0,0,0,0,0,0,-12,0,0,0,533,0,0,0,-14,0,-22,-22,0,0,0,-15,-32,0,0,0,0,0,0,0,0,0,0,0,0,0,0,-1135,0,0,0,1,0,-35,-35,0,0,-274,0,-1986,0,0,0,0,0,4.25,36.304000000000002,3.956,8.6590000000000007,36.164000000000001,45.530999999999999,4.2560000000000002,4.2560000000000002,3.3330000000000002,448]
[3,45,5,75,345575,4479,53,0,0,0,0,0,3,0,0,0,4,0,0,0,8,0,8,8,17,0,2,1,2,0,0,0,0,0,0,0,0,0,0,9.3000000000000007,0,0,0,99.5,0,0,0,37.5,0,45.3,45.3,8.1999999999999993,0,52.5,5.9,86.4,0,0,0,0,0,0,0,0,0,0,-4,0,0,0,533,0,0,0,-11,0,-36,-36,0,0,0,-14,-20,0,0,0,0,0,0,0,0,0,0,-11,0,0,0,-1139,0,0,0,-31,0,-39,-39,0,0,-283,0,-1983,0,0,0,0,0,4.2830000000000004,36.433999999999997,4.33,8.7119999999999997,36.451999999999998,36.604999999999997,4.258,4.258,3.33,447.90000000000003]
[5,45,5,75,545575,4475,55,0,0,0,0,0,5,0,0,0,4,0,0,0,8,0,8,8,17,0,2,1,2,0,0,0,0,0,0,0,0,0,0,5.3,0,0,0,99.5,0,0,0,37.200000000000003,0,45.3,45.3,8.1999999999999993,0,52.4,6.1,86.4,0,0,0,0,0,0,0,0,0,0,0,0,0,0,537,0,0,0,-4,0,-32,-32,0,0,0,-10,-14,0,0,0,0,0,0,0,0,0,0,0,0,0,0,-1135,0,0,0,-26,0,-35,-35,0,0,-278,0,-1979,0,0,0,0,0,4.2779999999999996,36.409999999999997,4.3849999999999998,8.6829999999999998,36.411000000000001,36.468000000000004,4.2569999999999997,4.2569999999999997,3.331,447.5]
[9,45,5,75,945575,4475,59,0,0,0,0,0,9,0,0,0,4,0,0,0,8,0,8,8,17,0,2,1,2,0,0,0,0,0,0,0,0,0,0,2.9,0,0,0,99.5,0,0,0,37.200000000000003,0,45.3,45.3,8.1999999999999993,0,52.4,6.1,86.4,0,0,0,0,0,0,0,0,0,0,0,0,0,0,537,0,0,0,-4,0,-32,-32,0,0,0,-10,-14,0,0,0,0,0,0,0,0,0,0,0,0,0,0,-1135,0,0,0,-26,0,-35,-35,0,0,-278,0,-1979,0,0,0,0,0,4.2779999999999996,36.409999999999997,4.3849999999999998,8.6829999999999998,36.411000000000001,36.468000000000004,4.2569999999999997,4.2569999999999997,3.331,447.5]
[1,15,10,75,1151075,4169,26,0,0,0,0,0,1,0,0,0,4,0,0,0,1,0,4,4,2,0,4,2,4,0,0,0,0,0,0,0,0,0,0,9.8000000000000007,0,0,0,99.5,0,0,0,95.9,0,85,85,65.900000000000006,0,26,3.1,43.1,0,0,0,0,0,0,0,0,0,0,3,0,0,0,574,0,0,0,116,0,-15,-15,-7,0,0,-8,5,0,0,0,0,0,0,0,0,0,0,0,0,0,0,-1010,0,0,0,0,0,-619,-619,-563,0,0,-6,2,0,0,0,0,0,4.2679999999999998,36.268000000000001,3.7440000000000002,3.74,492.62599999999998,37.212000000000003,7.7859999999999996,7.7859999999999996,4.415,416.90000000000003]
[3,15,10,75,3151075,4173,28,0,0,0,0,0,3,0,0,0,4,0,0,0,1,0,4,4,2,0,4,2,4,0,0,0,0,0,0,0,0,0,0,3.2,0,0,0,99.5,0,0,0,95.9,0,84.9,84.9,65.7,0,26,3.1,43.1,0,0,0,0,0,0,0,0,0,0,0,0,0,0,568,0,0,0,117,0,-17,-17,-10,0,0,-9,3,0,0,0,0,0,0,0,0,0,0,-1,0,0,0,-1013,0,0,0,0,0,-621,-621,-564,0,0,-9,-3,0,0,0,0,0,4.2750000000000004,36.289000000000001,3.7440000000000002,3.7429999999999999,493.47699999999998,36.649000000000001,7.7519999999999998,7.7519999999999998,4.3849999999999998,417.3]
[5,15,10,75,5151075,4173,30,0,0,0,0,0,5,0,0,0,4,0,0,0,1,0,4,4,2,0,4,2,4,0,0,0,0,0,0,0,0,0,0,1.9,0,0,0,99.5,0,0,0,95.9,0,84.9,84.9,65.7,0,26,3.1,43.1,0,0,0,0,0,0,0,0,0,0,0,0,0,0,568,0,0,0,117,0,-17,-17,-10,0,0,-9,3,0,0,0,0,0,0,0,0,0,0,0,0,0,0,-1013,0,0,0,0,0,-621,-621,-564,0,0,-9,-3,0,0,0,0,0,4.2750000000000004,36.289000000000001,3.7440000000000002,3.7429999999999999,493.47699999999998,36.649000000000001,7.7519999999999998,7.7519999999999998,4.3849999999999998,417.3]
[9,15,10,75,9151075,4173,34,0,0,0,0,0,9,0,0,0,4,0,0,0,1,0,4,4,2,0,4,2,4,0,0,0,0,0,0,0,0,0,0,1.1000000000000001,0,0,0,99.5,0,0,0,95.9,0,84.9,84.9,65.7,0,26,3.1,43.1,0,0,0,0,0,0,0,0,0,0,0,0,0,0,568,0,0,0,117,0,-17,-17,-10,0,0,-9,3,0,0,0,0,0,0,0,0,0,0,0,0,0,0,-1013,0,0,0,0,0,-621,-621,-564,0,0,-9,-3,0,0,0,0,0,4.2750000000000004,36.289000000000001,3.7440000000000002,3.7429999999999999,493.47699999999998,36.649000000000001,7.7519999999999998,7.7519999999999998,4.3849999999999998,417.3]
[1,30,10,75,1301075,9195,41,0,0,0,0,0,1,0,0,0,9,0,0,0,1,0,8,8,4,0,4,2,4,0,0,0,0,0,0,0,0,0,0,11.7,0,0,0,98.8,0,0,0,97,0,93.2,93.2,73,0,58.3,7.2,96.5,0,0,0,0,0,0,0,0,0,0,10,0,0,0,72,0,0,0,100,0,-51,-51,-14,0,0,-7,27,0,0,0,0,0,0,0,0,0,0,0,0,0,0,-984,0,0,0,0,0,-881,-881,-121,0,-11,-12,-2215,0,0,0,0,0,4.2770000000000001,29.971,3.7210000000000001,10.332000000000001,595.17499999999995,37.106000000000002,5.6120000000000001,5.6120000000000001,3.8719999999999999,919.5]
[3,30,10,75,3301075,9205,43,0,0,0,0,0,3,0,0,0,9,0,0,0,1,0,8,8,4,0,4,2,4,0,0,0,0,0,0,0,0,0,0,3.7,0,0,0,98.8,0,0,0,97,0,93.3,93.3,73,0,58.4,7.2,96.6,0,0,0,0,0,0,0,0,0,0,0,0,0,0,62,0,0,0,52,0,-77,-77,-30,0,0,-7,7,0,0,0,0,0,0,0,0,0,0,0,0,0,0,-1013,0,0,0,0,0,-891,-891,-131,0,-18,-31,-2225,0,0,0,0,0,4.2770000000000001,29.989000000000001,3.722,10.46,595.91300000000001,35.941000000000003,5.6779999999999999,5.6779999999999999,3.88,920.5]
[5,30,10,75,5301075,9205,45,0,0,0,0,0,5,0,0,0,9,0,0,0,1,0,8,8,4,0,4,2,4,0,0,0,0,0,0,0,0,0,0,2.2000000000000002,0,0,0,98.8,0,0,0,97,0,93.3,93.3,73,0,58.4,7.2,96.6,0,0,0,0,0,0,0,0,0,0,0,0,0,0,62,0,0,0,52,0,-77,-77,-30,0,0,-7,7,0,0,0,0,0,0,0,0,0,0,0,0,0,0,-1013,0,0,0,0,0,-891,-891,-131,0,-18,-31,-2225,0,0,0,0,0,4.2770000000000001,29.989000000000001,3.722,10.46,595.91300000000001,35.941000000000003,5.6779999999999999,5.6779999999999999,3.88,920.5]
[9,30,10,75,9301075,9205,49,0,0,0,0,0,9,0,0,0,9,0,0,0,1,0,8,8,4,0,4,2,4,0,0,0,0,0,0,0,0,0,0,1.2,0,0,0,98.8,0,0,0,97,0,93.3,93.3,73,0,58.4,7.2,96.6,0,0,0,0,0,0,0,0,0,0,0,0,0,0,62,0,0,0,52,0,-77,0,-30,0,0,-7,7,0,0,0,0,0,0,0,0,0,0,0,0,0,0,-1013,0,0,0,0,0,-891,-891,-131,0,-18,-31,-2225,0,0,0,0,0,4.2770000000000001,29.989000000000001,3.722,10.46,595.91300000000001,35.941000000000003,5.6779999999999999,5.6779999999999999,3.88,920.5]
[1,45,10,75,1451075,12047,56,0,0,0,0,0,1,0,0,0,11,0,0,0,8,0,11,11,4,0,4,1,5,0,0,0,0,0,0,0,0,0,0,68.2,0,0,0,98.6,0,0,0,94.7,0,89.8,89.8,94.3,0,71.3,16.8,94.5,0,0,0,0,0,0,0,0,0,0,-26,0,0,0,227,0,0,0,103,0,29,29,78,0,0,33,25,0,0,0,0,0,0,0,0,0,0,0,0,0,0,-997,0,0,0,-66,0,-217,-217,-1384,0,-28,0,-1949,0,0,0,0,0,4.28,29.154,4.3789999999999996,5.7169999999999996,104.417,76.706000000000003,4.8849999999999998,4.8849999999999998,15.571,1204.7]
[3,45,10,75,3451075,12063,58,0,0,0,0,0,3,0,0,0,11,0,0,0,8,0,11,11,4,0,4,1,5,0,0,0,0,0,0,0,0,0,0,26.1,0,0,0,98.6,0,0,0,95,0,89.7,89.7,94.5,0,71.3,17.899999999999999,94.6,0,0,0,0,0,0,0,0,0,0,-14,0,0,0,252,0,0,0,53,0,68,68,97,0,0,-9,29,0,0,0,0,0,0,0,0,0,0,-42,0,0,0,-950,0,0,0,-108,0,-215,-215,-1424,0,-76,0,-2003,0,0,0,0,0,4.29,29.141999999999999,4.4649999999999999,5.766,106.447,37.841999999999999,4.9340000000000002,4.9340000000000002,15.737,1206.3]
[5,45,10,75,5451075,12039,60,0,0,0,0,0,5,0,0,0,11,0,0,0,8,0,11,11,4,0,4,1,5,0,0,0,0,0,0,0,0,0,0,14.5,0,0,0,98.6,0,0,0,95,0,89.8,89.8,94.5,0,71.400000000000006,17.5,94.8,0,0,0,0,0,0,0,0,0,0,0,0,0,0,265,0,0,0,85,0,74,74,62,0,0,12,16,0,0,0,0,0,0,0,0,0,0,10,0,0,0,-929,0,0,0,-92,0,-196,-196,-1432,0,-32,0,-1967,0,0,0,0,0,4.2699999999999996,29.102,4.4349999999999996,5.9,108.139,36.168999999999997,4.9029999999999996,4.9029999999999996,17.913,1203.9000000000001]
[9,45,10,75,9451075,12039,64,0,0,0,0,0,9,0,0,0,11,0,0,0,8,0,11,11,4,0,4,1,5,0,0,0,0,0,0,0,0,0,0,8.1,0,0,0,98.6,0,0,0,95,0,89.8,89.8,94.5,0,71.400000000000006,17.5,94.8,0,0,0,0,0,0,0,0,0,0,0,0,0,0,265,0,0,0,85,0,96,96,62,0,0,12,16,0,0,0,0,0,0,0,0,0,0,0,0,0,0,-929,0,0,0,-92,0,-196,-196,-1432,0,-32,0,-1967,0,0,0,0,0,4.2699999999999996,29.102,4.4349999999999996,5.9,108.139,36.168999999999997,4.9029999999999996,4.9029999999999996,17.913,1203.9000000000001]
[1,15,15,75,1151575,4173,31,0,0,0,0,0,1,0,0,0,4,0,0,0,1,0,4,4,2,0,5,4,6,0,0,0,0,0,0,0,0,0,0,9.4,0,0,0,99.5,0,0,0,95.9,0,84.9,84.9,65.599999999999994,0,20.8,1.7,28.8,0,0,0,0,0,0,0,0,0,0,4,0,0,0,570,0,0,0,129,0,8,8,-1,0,0,0,-13,0,0,0,0,0,0,0,0,0,0,0,0,0,0,-1022,0,0,0,0,0,-624,-624,-569,0,0,7,-5,0,0,0,0,0,4.2759999999999998,36.307000000000002,3.6789999999999998,2.5489999999999999,497.70699999999999,35.954999999999998,8.7089999999999996,8.7089999999999996,4.3630000000000004,417.3]
[3,15,15,75,3151575,4177,33,0,0,0,0,0,3,0,0,0,4,0,0,0,1,0,4,4,2,0,5,4,6,0,0,0,0,0,0,0,0,0,0,3,0,0,0,99.5,0,0,0,95.9,0,85,85,65.400000000000006,0,20.9,1.6,28.9,0,0,0,0,0,0,0,0,0,0,0,0,0,0,566,0,0,0,125,0,1,1,-4,0,0,0,-17,0,0,0,0,0,0,0,0,0,0,0,0,0,0,-1030,0,0,0,0,0,-627,-627,-573,0,0,5,-3,0,0,0,0,0,4.2729999999999997,36.279000000000003,3.6789999999999998,2.544,499.43,34.795999999999999,8.6950000000000003,8.6950000000000003,4.3550000000000004,417.70000000000005]
[5,15,15,75,5151575,4177,35,0,0,0,0,0,5,0,0,0,4,0,0,0,1,0,4,4,2,0,5,4,6,0,0,0,0,0,0,0,0,0,0,1.8,0,0,0,99.5,0,0,0,95.9,0,85,85,65.400000000000006,0,20.9,1.6,28.9,0,0,0,0,0,0,0,0,0,0,0,0,0,0,566,0,0,0,125,0,1,1,-4,0,0,0,-17,0,0,0,0,0,0,0,0,0,0,0,0,0,0,-1030,0,0,0,0,0,-627,-627,-573,0,0,5,-3,0,0,0,0,0,4.2729999999999997,36.279000000000003,3.6789999999999998,2.544,499.43,34.795999999999999,8.6950000000000003,8.6950000000000003,4.3550000000000004,417.70000000000005]
[9,15,15,75,9151575,4177,39,0,0,0,0,0,9,0,0,0,4,0,0,0,1,0,4,4,2,0,5,4,6,0,0,0,0,0,0,0,0,0,0,1,0,0,0,99.5,0,0,0,95.9,0,85,85,65.400000000000006,0,20.9,1.6,28.9,0,0,0,0,0,0,0,0,0,0,0,0,0,0,566,0,0,0,125,0,1,1,-4,0,0,0,-17,0,0,0,0,0,0,0,0,0,0,0,0,0,0,-1030,0,0,0,0,0,-627,-627,-573,0,0,5,-3,0,0,0,0,0,4.2729999999999997,36.279000000000003,3.6789999999999998,2.544,499.43,34.795999999999999,8.6950000000000003,8.6950000000000003,4.3550000000000004,417.70000000000005]
[1,30,15,75,1301575,9188,46,0,0,0,0,0,1,0,0,0,9,0,0,0,1,0,8,8,4,0,4,7,4,0,0,0,0,0,0,0,0,0,0,7.2,0,0,0,98.8,0,0,0,97,0,93.2,93.2,72.8,0,58.3,2,96.5,0,0,0,0,0,0,0,0,0,0,10,0,0,0,61,0,0,0,90,0,-22,-22,-26,0,0,0,38,0,0,0,0,0,0,0,0,0,0,0,0,0,0,-1004,0,0,0,0,0,-870,-870,-143,0,-36,0,-2242,0,0,0,0,0,4.2729999999999997,30.030999999999999,3.698,10.355,586.154,32.915999999999997,5.718,5.718,3.851,918.80000000000007]
[3,30,15,75,{"$f":"VALUE(_xlfn.CONCAT(A71,B71,C71,D71))","v":3301575},9198,48,0,0,0,0,0,3,0,0,0,9,0,0,0,1,0,8,8,4,0,4,7,4,0,0,0,0,0,0,0,0,0,0,2.4,0,0,0,98.8,0,0,0,97,0,93.3,93.3,72.8,0,58.4,2,96.5,0,0,0,0,0,0,0,0,0,0,0,0,0,0,52,0,0,0,70,0,-44,-44,-47,0,0,0,28,0,0,0,0,0,0,0,0,0,0,0,0,0,0,-1012,0,0,0,0,0,-880,-880,-148,0,-36,0,-2250,0,0,0,0,0,4.2709999999999999,30.038,3.7109999999999999,10.369,586.54700000000003,32.566000000000003,5.7439999999999998,5.7439999999999998,3.8610000000000002,{"$f":"0.1*F71","v":919.80000000000007}]
[5,30,15,75,5301575,9198,50,0,0,0,0,0,5,0,0,0,9,0,0,0,1,0,8,8,4,0,4,7,4,0,0,0,0,0,0,0,0,0,0,1.4,0,0,0,98.8,0,0,0,97,0,93.3,93.3,72.8,0,58.4,2,96.5,0,0,0,0,0,0,0,0,0,0,0,0,0,0,52,0,0,0,70,0,-44,-44,-47,0,0,0,28,0,0,0,0,0,0,0,0,0,0,0,0,0,0,-1012,0,0,0,0,0,-880,-880,-148,0,-36,0,-2250,0,0,0,0,0,4.2709999999999999,30.038,3.7109999999999999,10.369,586.54700000000003,32.566000000000003,5.7439999999999998,5.7439999999999998,3.8610000000000002,919.80000000000007]
[9,30,15,75,9301575,9198,54,0,0,0,0,0,9,0,0,0,9,0,0,0,1,0,8,8,4,0,4,7,4,0,0,0,0,0,0,0,0,0,0,0.8,0,0,0,98.8,0,0,0,97,0,93.3,93.3,72.8,0,58.4,2,96.5,0,0,0,0,0,0,0,0,0,0,0,0,0,0,52,0,0,0,70,0,-44,-44,-47,0,0,0,28,0,0,0,0,0,0,0,0,0,0,0,0,0,0,-1012,0,0,0,0,0,-880,-880,-148,0,-36,0,-2250,0,0,0,0,0,4.2709999999999999,30.038,3.7109999999999999,10.369,586.54700000000003,32.566000000000003,5.7439999999999998,5.7439999999999998,3.8610000000000002,919.80000000000007]
[1,45,15,75,1451575,14235,61,0,0,0,0,0,1,0,0,0,14,0,0,0,2,0,12,12,5,0,5,1,9,0,0,0,0,0,0,0,0,0,0,20.6,0,0,0,98.3,0,0,0,97.2,0,96.4,96.4,90,0,72.3,23.1,66.900000000000006,0,0,0,0,0,0,0,0,0,0,26,0,0,0,89,0,0,0,51,0,99,99,2,0,0,-13,4,0,0,0,0,0,0,0,0,0,0,0,0,0,0,-869,0,0,0,-75,0,-1080,-1080,-959,0,-8,0,-10,0,0,0,0,0,4.2759999999999998,28.228000000000002,4.6399999999999997,2.4430000000000001,582.98199999999997,38.970999999999997,11.301,11.301,5.6639999999999997,1423.5]
[3,45,15,75,3451575,14261,63,0,0,0,0,0,3,0,0,0,14,0,0,0,2,0,12,12,5,0,5,1,9,0,0,0,0,0,0,0,0,0,0,7.3,0,0,0,98.3,0,0,0,97.2,0,96.5,96.5,89.9,0,72.3,22.3,66.900000000000006,0,0,0,0,0,0,0,0,0,0,0,0,0,0,82,0,0,0,46,0,76,76,-17,0,0,-30,-38,0,0,0,0,0,0,0,0,0,0,0,0,0,0,-884,0,0,0,-105,0,-1139,-1139,-1047,0,-38,0,-46,0,0,0,0,0,4.2889999999999997,28.262,4.5759999999999996,2.4329999999999998,578.476,37.103999999999999,10.989000000000001,10.989000000000001,5.7050000000000001,1426.1000000000001]
[5,45,15,75,5451575,14261,65,0,0,0,0,0,5,0,0,0,14,0,0,0,2,0,12,12,5,0,5,1,9,0,0,0,0,0,0,0,0,0,0,4.4000000000000004,0,0,0,98.3,0,0,0,97.2,0,96.5,96.5,89.9,0,72.3,22.3,66.900000000000006,0,0,0,0,0,0,0,0,0,0,0,0,0,0,82,0,0,0,46,0,76,76,-17,0,0,-30,-38,0,0,0,0,0,0,0,0,0,0,0,0,0,0,-884,0,0,0,-105,0,-1139,-1139,-1047,0,-38,0,-46,0,0,0,0,0,4.2889999999999997,28.262,4.5759999999999996,2.4329999999999998,578.476,37.103999999999999,10.989000000000001,10.989000000000001,5.7050000000000001,1426.1000000000001]
[9,45,15,75,9451575,14261,69,0,0,0,0,0,9,0,0,0,14,0,0,0,2,0,12,12,5,0,5,1,9,0,0,0,0,0,0,0,0,0,0,2.4,0,0,0,98.3,0,0,0,97.2,0,96.5,96.5,89.9,0,72.3,22.3,66.900000000000006,0,0,0,0,0,0,0,0,0,0,0,0,0,0,82,0,0,0,46,0,76,76,-17,0,0,-30,-38,0,0,0,0,0,0,0,0,0,0,0,0,0,0,-884,0,0,0,-105,0,-1139,-1139,-1047,0,-38,0,-46,0,0,0,0,0,4.2889999999999997,28.262,4.5759999999999996,2.4329999999999998,578.476,37.103999999999999,10.989000000000001,10.989000000000001,5.7050000000000001,1426.1000000000001]